BEGIN:VCALENDAR
VERSION:2.0
PRODID:-//Cape Breton Regional Library - ECPv6.15.20//NONSGML v1.0//EN
CALSCALE:GREGORIAN
METHOD:PUBLISH
X-WR-CALNAME:Cape Breton Regional Library
X-ORIGINAL-URL:https://cbrl.ca
X-WR-CALDESC:Events for Cape Breton Regional Library
REFRESH-INTERVAL;VALUE=DURATION:PT1H
X-Robots-Tag:noindex
X-PUBLISHED-TTL:PT1H
BEGIN:VTIMEZONE
TZID:America/Halifax
BEGIN:DAYLIGHT
TZOFFSETFROM:-0400
TZOFFSETTO:-0300
TZNAME:ADT
DTSTART:20250309T060000
END:DAYLIGHT
BEGIN:STANDARD
TZOFFSETFROM:-0300
TZOFFSETTO:-0400
TZNAME:AST
DTSTART:20251102T050000
END:STANDARD
BEGIN:DAYLIGHT
TZOFFSETFROM:-0400
TZOFFSETTO:-0300
TZNAME:ADT
DTSTART:20260308T060000
END:DAYLIGHT
BEGIN:STANDARD
TZOFFSETFROM:-0300
TZOFFSETTO:-0400
TZNAME:AST
DTSTART:20261101T050000
END:STANDARD
BEGIN:DAYLIGHT
TZOFFSETFROM:-0400
TZOFFSETTO:-0300
TZNAME:ADT
DTSTART:20270314T060000
END:DAYLIGHT
BEGIN:STANDARD
TZOFFSETFROM:-0300
TZOFFSETTO:-0400
TZNAME:AST
DTSTART:20271107T050000
END:STANDARD
END:VTIMEZONE
BEGIN:VEVENT
DTSTART;TZID=America/Halifax:20260124T100000
DTEND;TZID=America/Halifax:20260124T110000
DTSTAMP:20260423T192033
CREATED:20260102T154232Z
LAST-MODIFIED:20260121T203544Z
UID:10007009-1769248800-1769252400@cbrl.ca
SUMMARY:Super Saturday: Sensory Play
DESCRIPTION:Drop in and enjoy playing with our sensory bin and playdoh.
URL:https://cbrl.ca/event/super-saturday-sensory-play/
LOCATION:Glace Bay Library\, 143 Commercial Street\, Glace Bay\, Nova Scotia\, B1A 3B9\, Canada
CATEGORIES:Babies, Toddler & Preschool (0-5),Children (5-12)
ATTACH;FMTTYPE=image/png:https://cbrl.ca/wp-content/uploads/2026/01/Sensory-Play.png
ORGANIZER;CN="Glace Bay Library":MAILTO:glacebay@cbrl.ca
END:VEVENT
BEGIN:VEVENT
DTSTART;TZID=America/Halifax:20260124T090000
DTEND;TZID=America/Halifax:20260124T103000
DTSTAMP:20260423T192033
CREATED:20260106T182742Z
LAST-MODIFIED:20260106T182742Z
UID:10007117-1769245200-1769250600@cbrl.ca
SUMMARY:Tai Chi at the Baddeck Library
DESCRIPTION:A multi activity program presented by Victoria County Recreation and hosted by the Baddeck Library. \nLearn the exercise of tai chi: as a self-care asset; for digestion and immunity and also improved circulation. \nThe 12-week program is free and starts on January 10th. All ages welcome\, first come first served. \nFor more information call the Baddeck Library 902-295-2055\, or email baddeck@cbrl.ca
URL:https://cbrl.ca/event/tai-chi-at-the-baddeck-library/2026-01-24/
LOCATION:Baddeck Library\, 520 Chebucto St\, Baddeck\, Nova Scotia\, B0E 1B0\, Canada
CATEGORIES:Adults & Seniors
ATTACH;FMTTYPE=image/png:https://cbrl.ca/wp-content/uploads/2026/01/Tai-Chi.png
ORGANIZER;CN="Baddeck Library":MAILTO:baddeck@cbrl.ca
END:VEVENT
BEGIN:VEVENT
DTSTART;TZID=America/Halifax:20260123T153000
DTEND;TZID=America/Halifax:20260123T163000
DTSTAMP:20260423T192033
CREATED:20260114T150331Z
LAST-MODIFIED:20260128T234027Z
UID:10007296-1769182200-1769185800@cbrl.ca
SUMMARY:Story Time
DESCRIPTION:Listen to a story\, read\, do a craft (for ages 5 and up). \nThis program is full but call the library if you are interested adding your name to the waitlist 902-736-3219.
URL:https://cbrl.ca/event/rock-painting/2026-01-23/
LOCATION:Sydney Mines Library\, 1 Fraser Ave\, Sydney Mines\, Nova Scotia\, B1V 0A9\, Canada
CATEGORIES:Children (5-12)
ATTACH;FMTTYPE=image/png:https://cbrl.ca/wp-content/uploads/2025/01/Stories-crafts.png
END:VEVENT
BEGIN:VEVENT
DTSTART;TZID=America/Halifax:20260123T140000
DTEND;TZID=America/Halifax:20260123T163000
DTSTAMP:20260423T192033
CREATED:20251222T195842Z
LAST-MODIFIED:20251222T200715Z
UID:10006983-1769176800-1769185800@cbrl.ca
SUMMARY:Lego Fun Fridays
DESCRIPTION:Drop in\, join friends and have fun getting creative with Lego. Registration is not required. \nWhen: Every Friday in January & February from 2:00 – 4:30 pm \nAll ages welcome (under 8 yrs. must be accompanied by an adult). \nNote: Unexpected library closures will be posted on CBRL.ca and the Victoria North Regional Library Facebook page. ‘Like’ our page to stay up to date on programs.
URL:https://cbrl.ca/event/lego-fun-fridays/2026-01-23/
LOCATION:Ingonish Library\, 35938 Cabot Trail\, Ingonish\, Nova Scotia\, B0C 1K0\, Canada
CATEGORIES:Children (5-12),Teens
ATTACH;FMTTYPE=image/png:https://cbrl.ca/wp-content/uploads/2025/12/Lego-Play.png
ORGANIZER;CN="Victoria North Regional Library (Ingonish)":MAILTO:ingonish@cbrl.ca
END:VEVENT
BEGIN:VEVENT
DTSTART;TZID=America/Halifax:20260123T133000
DTEND;TZID=America/Halifax:20260123T153000
DTSTAMP:20260423T192033
CREATED:20260109T184035Z
LAST-MODIFIED:20260109T184035Z
UID:10007223-1769175000-1769182200@cbrl.ca
SUMMARY:Knitting/ Crafters Club
DESCRIPTION:Join other knitters and crafters on Friday afternoons for a time to chat and work on your knitting projects.
URL:https://cbrl.ca/event/knitting-crafters-club/2026-01-23/
LOCATION:Glace Bay Library\, 143 Commercial Street\, Glace Bay\, Nova Scotia\, B1A 3B9\, Canada
CATEGORIES:Adults & Seniors
ATTACH;FMTTYPE=image/png:https://cbrl.ca/wp-content/uploads/2024/08/GB-Knitting.png
ORGANIZER;CN="Glace Bay Library":MAILTO:glacebay@cbrl.ca
END:VEVENT
BEGIN:VEVENT
DTSTART;TZID=America/Halifax:20260123T130000
DTEND;TZID=America/Halifax:20260123T150000
DTSTAMP:20260423T192033
CREATED:20260102T200539Z
LAST-MODIFIED:20260102T203449Z
UID:10007086-1769173200-1769180400@cbrl.ca
SUMMARY:Fibre Lunch
DESCRIPTION:Bring your knitting or crocheting project and join in with other crafters on Friday afternoons. \nTea provided.
URL:https://cbrl.ca/event/fibre-lunch-3/2026-01-23/
LOCATION:Sydney (McConnell Library)\, 50 Falmouth St\, Sydney\, Nova Scotia\, B1P6X9\, Canada
CATEGORIES:Adults & Seniors
ATTACH;FMTTYPE=image/png:https://cbrl.ca/wp-content/uploads/2026/01/FL-mCc-jan-2026.png
ORGANIZER;CN="McConnell Library - General Events":MAILTO:mcconnell@cbrl.ca
END:VEVENT
BEGIN:VEVENT
DTSTART;TZID=America/Halifax:20260123T130000
DTEND;TZID=America/Halifax:20260123T150000
DTSTAMP:20260423T192033
CREATED:20250113T150855Z
LAST-MODIFIED:20251118T152429Z
UID:10000653-1769173200-1769180400@cbrl.ca
SUMMARY:Friday Crafternoon
DESCRIPTION:Knit\, stitch\, crochet or even decoupage — all are welcome at our Friday Crafternoon. \n\n\n\nJoin us Fridays from 1:00-3:00 with your latest project to share\, get help or just craft in company. \n\n\n\nTea and cookies will be served. \n\n\n\nSome materials and tools for beginners who just want to get started. \n\n\n\nHope to see you there! \n\n\n\n 
URL:https://cbrl.ca/event/friday-crafternoon/2026-01-23/
LOCATION:Baddeck Library\, 520 Chebucto St\, Baddeck\, Nova Scotia\, B0E 1B0\, Canada
CATEGORIES:Adults & Seniors
ATTACH;FMTTYPE=image/png:https://cbrl.ca/wp-content/uploads/2022/08/Crafternoon-website-copy1.png
ORGANIZER;CN="Baddeck Library":MAILTO:baddeck@cbrl.ca
END:VEVENT
END:VCALENDAR