BEGIN:VCALENDAR
VERSION:2.0
PRODID:-//Cape Breton Regional Library - ECPv6.15.20//NONSGML v1.0//EN
CALSCALE:GREGORIAN
METHOD:PUBLISH
X-WR-CALNAME:Cape Breton Regional Library
X-ORIGINAL-URL:https://cbrl.ca
X-WR-CALDESC:Events for Cape Breton Regional Library
REFRESH-INTERVAL;VALUE=DURATION:PT1H
X-Robots-Tag:noindex
X-PUBLISHED-TTL:PT1H
BEGIN:VTIMEZONE
TZID:America/Halifax
BEGIN:DAYLIGHT
TZOFFSETFROM:-0400
TZOFFSETTO:-0300
TZNAME:ADT
DTSTART:20250309T060000
END:DAYLIGHT
BEGIN:STANDARD
TZOFFSETFROM:-0300
TZOFFSETTO:-0400
TZNAME:AST
DTSTART:20251102T050000
END:STANDARD
BEGIN:DAYLIGHT
TZOFFSETFROM:-0400
TZOFFSETTO:-0300
TZNAME:ADT
DTSTART:20260308T060000
END:DAYLIGHT
BEGIN:STANDARD
TZOFFSETFROM:-0300
TZOFFSETTO:-0400
TZNAME:AST
DTSTART:20261101T050000
END:STANDARD
BEGIN:DAYLIGHT
TZOFFSETFROM:-0400
TZOFFSETTO:-0300
TZNAME:ADT
DTSTART:20270314T060000
END:DAYLIGHT
BEGIN:STANDARD
TZOFFSETFROM:-0300
TZOFFSETTO:-0400
TZNAME:AST
DTSTART:20271107T050000
END:STANDARD
END:VTIMEZONE
BEGIN:VEVENT
DTSTART;TZID=America/Halifax:20260130T103000
DTEND;TZID=America/Halifax:20260130T110000
DTSTAMP:20260424T194743
CREATED:20260109T184711Z
LAST-MODIFIED:20260109T185038Z
UID:10007246-1769769000-1769770800@cbrl.ca
SUMMARY:Story Time
DESCRIPTION:Join library staff for stories\, rhymes\, and songs. The story time activities are largely aimed at toddlers and preschoolers and their parents (or caregivers)\, but babies are also welcome and we have age-appropriate toys and books for all! \n\n\n\nNo registration for this fun activity. Drop-in. \n\n\n\nIf you have any questions\, email louisbourg@cbrl.ca.
URL:https://cbrl.ca/event/story-time-3/2026-01-30/
LOCATION:Louisbourg Library\, 10 Upper Warren St\, Louisbourg\, Nova Scotia\, B1C 1M6\, Canada
CATEGORIES:Babies, Toddler & Preschool (0-5)
ATTACH;FMTTYPE=image/png:https://cbrl.ca/wp-content/uploads/2024/01/Story-Time.png
ORGANIZER;CN="Louisbourg Library":MAILTO:louisbourg@cbrl.ca
END:VEVENT
BEGIN:VEVENT
DTSTART;TZID=America/Halifax:20260130T100000
DTEND;TZID=America/Halifax:20260130T110000
DTSTAMP:20260424T194743
CREATED:20260106T185111Z
LAST-MODIFIED:20260225T135339Z
UID:10007133-1769767200-1769770800@cbrl.ca
SUMMARY:Story Time
DESCRIPTION:Visit the library Friday mornings for stories\, crafts and social time. \nBabies\, toddlers\, preschoolers and their caregivers are welcome! \nRegistration is not required. \n 
URL:https://cbrl.ca/event/story-time-2/2026-01-30/
LOCATION:Ingonish Library\, 35938 Cabot Trail\, Ingonish\, Nova Scotia\, B0C 1K0\, Canada
CATEGORIES:Babies, Toddler & Preschool (0-5)
ATTACH;FMTTYPE=image/png:https://cbrl.ca/wp-content/uploads/2026/01/INGO-Story-time.png
ORGANIZER;CN="Victoria North Regional Library (Ingonish)":MAILTO:ingonish@cbrl.ca
END:VEVENT
BEGIN:VEVENT
DTSTART;TZID=America/Halifax:20260129T183000
DTEND;TZID=America/Halifax:20260129T200000
DTSTAMP:20260424T194743
CREATED:20260106T184356Z
LAST-MODIFIED:20260106T184356Z
UID:10007129-1769711400-1769716800@cbrl.ca
SUMMARY:McConnell Film Discussion Club - ‘BLACKBERRY’
DESCRIPTION:Like a book club… but for movies! Join McConnell staff as we discuss the 2023 film\, ‘Blackberry’ and the Canadian cinema scene! Please watch the film in advance as it will not be screened during this event. \nLimited DVDs and Blu-rays available\, ask at the McConnell front desk for more information! \nSpace is limited please sign-up below. \n  \n  \n  \n 
URL:https://cbrl.ca/event/mcconnell-film-discussion-club-blackberry/
LOCATION:Sydney (McConnell Library)\, 50 Falmouth St\, Sydney\, Nova Scotia\, B1P6X9\, Canada
CATEGORIES:Adults & Seniors
ATTACH;FMTTYPE=image/png:https://cbrl.ca/wp-content/uploads/2026/01/Film-discussion-blackberry.png
ORGANIZER;CN="McConnell Library - General Events":MAILTO:mcconnell@cbrl.ca
END:VEVENT
BEGIN:VEVENT
DTSTART;TZID=America/Halifax:20260129T183000
DTEND;TZID=America/Halifax:20260129T193000
DTSTAMP:20260424T194743
CREATED:20260102T181011Z
LAST-MODIFIED:20260102T181011Z
UID:10007015-1769711400-1769715000@cbrl.ca
SUMMARY:UKRAINIAN FOOD with SVITLANA VDOVICHENKO & NATALIA DMYTRIYEV
DESCRIPTION:We are delighted to have Svitlana and Natalia prepare some traditional Ukrainian dishes for us – Ukrainian Borscht and Varenyky will be on the menu for your sampling pleasure!  Come share in this lovely cultural exchange\, and enjoy some delicious comfort food on this winter’s night.
URL:https://cbrl.ca/event/ukrainian-food-with-svitlana-vdovichenko-natalia-dmytriyev/
LOCATION:Baddeck Library\, 520 Chebucto St\, Baddeck\, Nova Scotia\, B0E 1B0\, Canada
CATEGORIES:Adults & Seniors
ATTACH;FMTTYPE=image/png:https://cbrl.ca/wp-content/uploads/2026/01/Borscht.png
ORGANIZER;CN="Baddeck Library":MAILTO:baddeck@cbrl.ca
END:VEVENT
BEGIN:VEVENT
DTSTART;TZID=America/Halifax:20260129T153000
DTEND;TZID=America/Halifax:20260129T163000
DTSTAMP:20260424T194743
CREATED:20260102T160143Z
LAST-MODIFIED:20260102T160143Z
UID:10007013-1769700600-1769704200@cbrl.ca
SUMMARY:Makers Gonna Make: Arts & Crafts
DESCRIPTION:Drop in to the Glace Bay Library Thursdays in January to make crafts! \nThurs Jan 8: Penguins \nThurs Jan 15: Teddy bears \nThurs Jan 22: Snowflakes \nThurs Jan 29: Valentines \n  \nThis activity is geared for ages 5-12. \n 
URL:https://cbrl.ca/event/makers-gonna-make-arts-crafts/2026-01-29/
LOCATION:Glace Bay Library\, 143 Commercial Street\, Glace Bay\, Nova Scotia\, B1A 3B9\, Canada
CATEGORIES:Children (5-12)
ATTACH;FMTTYPE=image/png:https://cbrl.ca/wp-content/uploads/2026/01/Makers-gonna-make.png
ORGANIZER;CN="Glace Bay Library":MAILTO:glacebay@cbrl.ca
END:VEVENT
BEGIN:VEVENT
DTSTART;TZID=America/Halifax:20260129T130000
DTEND;TZID=America/Halifax:20260129T150000
DTSTAMP:20260424T194743
CREATED:20250113T170053Z
LAST-MODIFIED:20250922T171257Z
UID:10006328-1769691600-1769698800@cbrl.ca
SUMMARY:Fibre Lunch
DESCRIPTION:Come join us to work on a fibre craft. Bring your own project and enjoy tea and conversation.
URL:https://cbrl.ca/event/fibre-lunch-2/2026-01-29/
LOCATION:North Sydney Library\, 309 Commercial St\, North Sydney\, Nova Scotia\, B2A 1B9\, Canada
CATEGORIES:Adults & Seniors
ATTACH;FMTTYPE=image/png:https://cbrl.ca/wp-content/uploads/2024/09/NorSyd-Fibre-Lunch.png
END:VEVENT
BEGIN:VEVENT
DTSTART;TZID=America/Halifax:20260128T183000
DTEND;TZID=America/Halifax:20260128T193000
DTSTAMP:20260424T194743
CREATED:20260128T174605Z
LAST-MODIFIED:20260409T173838Z
UID:10007360-1769625000-1769628600@cbrl.ca
SUMMARY:English Conversation Group
DESCRIPTION:Newcomers are invited to practice their English language skills in a conversational setting with volunteers from the community. This is a drop in event\, no registration is\nneeded.
URL:https://cbrl.ca/event/english-conversation-group-5/2026-01-28/
LOCATION:Sydney (McConnell Library)\, 50 Falmouth St\, Sydney\, Nova Scotia\, B1P6X9\, Canada
CATEGORIES:Adults & Seniors
ATTACH;FMTTYPE=image/png:https://cbrl.ca/wp-content/uploads/2026/01/Blue-White-Simple-Quotes-of-the-Day-Instagram-Post.png
ORGANIZER;CN="McConnell Library - Program Department":MAILTO:tmacneil@cbrl.ca
END:VEVENT
BEGIN:VEVENT
DTSTART;TZID=America/Halifax:20260128T153000
DTEND;TZID=America/Halifax:20260128T163000
DTSTAMP:20260424T194743
CREATED:20260115T201311Z
LAST-MODIFIED:20260115T201819Z
UID:10007304-1769614200-1769617800@cbrl.ca
SUMMARY:Family Literacy Day Pancake Party
DESCRIPTION:Celebrate Family Literacy Day and all the ways that families learn together! The theme for FLD 2026 is: Make Mealtime Family Learning Time. \nLibrary staff will be sharing stories and activities with participants and there will be a pancake party break too! \nThis program is for kids and their parents/ caregivers. Stories and activities will be geared for the school-aged crowd but everyone is welcome. \nRegistration is required. Sign-up all attendees in space below (note: register the parent/ caregiver first and add any children as +guest) \nFind more ways to celebrate at FamilyLiteracyDay.ca #FamilyLiteracyDay #FLD2026 \n  \nThis program is made possible thanks to the generous support of the Province of Nova Scotia. \n  \n 
URL:https://cbrl.ca/event/family-literacy-day-pancake-party/
LOCATION:Sydney (McConnell Library)\, 50 Falmouth St\, Sydney\, Nova Scotia\, B1P6X9\, Canada
CATEGORIES:Adults & Seniors,Babies, Toddler & Preschool (0-5),Children (5-12),Teens
ATTACH;FMTTYPE=image/png:https://cbrl.ca/wp-content/uploads/2026/01/FLD-2026.png
ORGANIZER;CN="McConnell Library - General Events":MAILTO:mcconnell@cbrl.ca
END:VEVENT
BEGIN:VEVENT
DTSTART;TZID=America/Halifax:20260128T103000
DTEND;TZID=America/Halifax:20260128T113000
DTSTAMP:20260424T194743
CREATED:20260102T183923Z
LAST-MODIFIED:20260102T183923Z
UID:10007045-1769596200-1769599800@cbrl.ca
SUMMARY:Tea & Trivia
DESCRIPTION:Tea and Trivia ~ Wednesdays at 10:30am \nOpen to adults. Registration is required. \nPhone 902-862-2892 for more information\, or to register.
URL:https://cbrl.ca/event/tea-trivia/2026-01-28/
LOCATION:New Waterford Library\, 3390 Plummer Ave\, New Waterford\, Nova Scotia\, B1H 4K4\, Canada
CATEGORIES:Adults & Seniors
ATTACH;FMTTYPE=image/png:https://cbrl.ca/wp-content/uploads/2025/04/tea-and-trivia-2.png
ORGANIZER;CN="New Waterford Library":MAILTO:newwaterford@cbrl.ca
END:VEVENT
BEGIN:VEVENT
DTSTART;TZID=America/Halifax:20260127T180000
DTEND;TZID=America/Halifax:20260127T200000
DTSTAMP:20260424T194743
CREATED:20260109T201320Z
LAST-MODIFIED:20260109T201320Z
UID:10007269-1769536800-1769544000@cbrl.ca
SUMMARY:Movie Night: The Summer Book
DESCRIPTION:Beat the January blues with a cozy film series full of comfort\, comedy and whimsy. \nTues 13 Jan @ 6pm: This Beautiful Fantastic (2016/ PG/ 1hour and 32 mins.) \nTues 20 Jan @ 6pm : Hunt for the Wilderpeople (2016/ PG/ 1hour and 41mins.) \nTues 27 Jan @ 6pm: The Summer Book (2024/ NR/ 1hour and 30mins.) \nRegistration not required.
URL:https://cbrl.ca/event/movie-night-the-summer-book/
LOCATION:Sydney (McConnell Library)\, 50 Falmouth St\, Sydney\, Nova Scotia\, B1P6X9\, Canada
CATEGORIES:Adults & Seniors
ATTACH;FMTTYPE=image/png:https://cbrl.ca/wp-content/uploads/2026/01/JAN-films-McC.png
ORGANIZER;CN="McConnell Library - General Events":MAILTO:mcconnell@cbrl.ca
END:VEVENT
BEGIN:VEVENT
DTSTART;TZID=America/Halifax:20260127T180000
DTEND;TZID=America/Halifax:20260127T193000
DTSTAMP:20260424T194743
CREATED:20260102T183519Z
LAST-MODIFIED:20260102T183519Z
UID:10007024-1769536800-1769542200@cbrl.ca
SUMMARY:Knitting Group
DESCRIPTION:Bring your knitting or crocheting and craft with others. \nOpen to all adults. No registration required.
URL:https://cbrl.ca/event/knitting-group/2026-01-27/
LOCATION:New Waterford Library\, 3390 Plummer Ave\, New Waterford\, Nova Scotia\, B1H 4K4\, Canada
CATEGORIES:Adults & Seniors
ATTACH;FMTTYPE=image/png:https://cbrl.ca/wp-content/uploads/2024/08/GB-Knitting.png
ORGANIZER;CN="New Waterford Library":MAILTO:newwaterford@cbrl.ca
END:VEVENT
BEGIN:VEVENT
DTSTART;TZID=America/Halifax:20260127T150000
DTEND;TZID=America/Halifax:20260127T160000
DTSTAMP:20260424T194743
CREATED:20251006T132146Z
LAST-MODIFIED:20251006T132146Z
UID:10006686-1769526000-1769529600@cbrl.ca
SUMMARY:Lego Tuesday
DESCRIPTION:Drop-in to the North Sydney Library for some Lego time every Tuesday from 3:00-4:00. \nAges 5 and up.
URL:https://cbrl.ca/event/lego-tuesday/2026-01-27/
LOCATION:North Sydney Library\, 309 Commercial St\, North Sydney\, Nova Scotia\, B2A 1B9\, Canada
CATEGORIES:Children (5-12)
ATTACH;FMTTYPE=image/png:https://cbrl.ca/wp-content/uploads/2025/04/McC-LEGO.png
END:VEVENT
BEGIN:VEVENT
DTSTART;TZID=America/Halifax:20260127T143000
DTEND;TZID=America/Halifax:20260127T163000
DTSTAMP:20260424T194743
CREATED:20260102T194457Z
LAST-MODIFIED:20260102T194457Z
UID:10007066-1769524200-1769531400@cbrl.ca
SUMMARY:Chess Club
DESCRIPTION:Do you play chess? Interested in learning and or building your chess skills? \nDrop-in to the McConnell Library’s Chess Club ~ Tuesdays 2:30-4:30pm \nSome instruction available with Chess Club volunteer Donald MacLean. \n*Note: anyone 8 years old or younger must be supervised by a parent\, guardian\, or responsible caregiver in the library (this includes chess club).
URL:https://cbrl.ca/event/chess-club-2/2026-01-27/
LOCATION:Sydney (McConnell Library)\, 50 Falmouth St\, Sydney\, Nova Scotia\, B1P6X9\, Canada
CATEGORIES:Adults & Seniors,Teens
ATTACH;FMTTYPE=image/png:https://cbrl.ca/wp-content/uploads/2026/01/Chess-jan-2026.png
END:VEVENT
BEGIN:VEVENT
DTSTART;TZID=America/Halifax:20260127T130000
DTEND;TZID=America/Halifax:20260127T150000
DTSTAMP:20260424T194743
CREATED:20260109T150944Z
LAST-MODIFIED:20260126T134938Z
UID:10007219-1769518800-1769526000@cbrl.ca
SUMMARY:*POSTPONED The Rake Stop: A Pit Talk Social
DESCRIPTION:*Due to the weather forecast The Rake Stop: A Pit Talk Social is POSTPONED to next week – Tues. Feb. 3 \nNew Waterford Library & the NW Fire Dept. are hosting a meeting place for miners! \nGet together to socialize\, meet new and old friends\, and reminisce about shared experiences while enjoying tea\, coffee\, and light refreshments. \nLocation: New Waterford Fire Department (thanks to the Fire Department for their support!) \nTuesday\, Feb. 3 from 1-3pm (doors open at 12:30). \nCall the New Waterford Library (902-862-2892) for more information.
URL:https://cbrl.ca/event/the-rake-stop-a-pit-talk-social/
LOCATION:New Waterford Library\, 3390 Plummer Ave\, New Waterford\, Nova Scotia\, B1H 4K4\, Canada
ATTACH;FMTTYPE=image/png:https://cbrl.ca/wp-content/uploads/2026/01/POSTPONED-The-Rake-Stop-Pit-Talk-Social-Instagram-Post-45-1.png
ORGANIZER;CN="New Waterford Library":MAILTO:newwaterford@cbrl.ca
END:VEVENT
BEGIN:VEVENT
DTSTART;TZID=America/Halifax:20260126T153000
DTEND;TZID=America/Halifax:20260126T193000
DTSTAMP:20260424T194743
CREATED:20250813T163816Z
LAST-MODIFIED:20260121T203157Z
UID:10006142-1769441400-1769455800@cbrl.ca
SUMMARY:Dungeons & Dragons
DESCRIPTION:Join our Dungeons and Dragons group (for teens and adults).
URL:https://cbrl.ca/event/dungeons-dragons-3/2026-01-26/
LOCATION:Glace Bay Library\, 143 Commercial Street\, Glace Bay\, Nova Scotia\, B1A 3B9\, Canada
CATEGORIES:Adults & Seniors,Teens
ATTACH;FMTTYPE=image/png:https://cbrl.ca/wp-content/uploads/2025/05/D-and-D-IMAGE.png
ORGANIZER;CN="Glace Bay Library":MAILTO:glacebay@cbrl.ca
END:VEVENT
BEGIN:VEVENT
DTSTART;TZID=America/Halifax:20260124T140000
DTEND;TZID=America/Halifax:20260124T160000
DTSTAMP:20260424T194743
CREATED:20260108T175144Z
LAST-MODIFIED:20260108T175144Z
UID:10007193-1769263200-1769270400@cbrl.ca
SUMMARY:JR D&D
DESCRIPTION:Children (ages 5-12) are welcome to the library for an afternoon of D&D.
URL:https://cbrl.ca/event/jr-dd/2026-01-24/
LOCATION:Glace Bay Library\, 143 Commercial Street\, Glace Bay\, Nova Scotia\, B1A 3B9\, Canada
CATEGORIES:Children (5-12)
ATTACH;FMTTYPE=image/png:https://cbrl.ca/wp-content/uploads/2024/08/GB-Jr-DD.png
ORGANIZER;CN="Glace Bay Library":MAILTO:glacebay@cbrl.ca
END:VEVENT
END:VCALENDAR