BEGIN:VCALENDAR
VERSION:2.0
PRODID:-//Cape Breton Regional Library - ECPv6.15.20//NONSGML v1.0//EN
CALSCALE:GREGORIAN
METHOD:PUBLISH
X-ORIGINAL-URL:https://cbrl.ca
X-WR-CALDESC:Events for Cape Breton Regional Library
REFRESH-INTERVAL;VALUE=DURATION:PT1H
X-Robots-Tag:noindex
X-PUBLISHED-TTL:PT1H
BEGIN:VTIMEZONE
TZID:America/Halifax
BEGIN:DAYLIGHT
TZOFFSETFROM:-0400
TZOFFSETTO:-0300
TZNAME:ADT
DTSTART:20250309T060000
END:DAYLIGHT
BEGIN:STANDARD
TZOFFSETFROM:-0300
TZOFFSETTO:-0400
TZNAME:AST
DTSTART:20251102T050000
END:STANDARD
BEGIN:DAYLIGHT
TZOFFSETFROM:-0400
TZOFFSETTO:-0300
TZNAME:ADT
DTSTART:20260308T060000
END:DAYLIGHT
BEGIN:STANDARD
TZOFFSETFROM:-0300
TZOFFSETTO:-0400
TZNAME:AST
DTSTART:20261101T050000
END:STANDARD
BEGIN:DAYLIGHT
TZOFFSETFROM:-0400
TZOFFSETTO:-0300
TZNAME:ADT
DTSTART:20270314T060000
END:DAYLIGHT
BEGIN:STANDARD
TZOFFSETFROM:-0300
TZOFFSETTO:-0400
TZNAME:AST
DTSTART:20271107T050000
END:STANDARD
END:VTIMEZONE
BEGIN:VEVENT
DTSTART;TZID=America/Halifax:20260422T150000
DTEND;TZID=America/Halifax:20260422T163000
DTSTAMP:20260423T203602
CREATED:20260407T141916Z
LAST-MODIFIED:20260407T141916Z
UID:10008135-1776870000-1776875400@cbrl.ca
SUMMARY:Let’s Make a Lighthouse!
DESCRIPTION:Join us at the Louisbourg Library To celebrate “Earth Day!” We will be using recycled materials to make a lighthouse. This is a registered program. please email the Branch at: louisbourg@cbrl.ca or phone at: 902-733-3608 to reserve your spot! \n  \n  \n 
URL:https://cbrl.ca/event/lets-make-a-lighthouse/
LOCATION:Louisbourg Library\, 10 Upper Warren St\, Louisbourg\, Nova Scotia\, B1C 1M6\, Canada
CATEGORIES:Children (5-12)
ATTACH;FMTTYPE=image/png:https://cbrl.ca/wp-content/uploads/2026/04/louisbourglighthouse.png
ORGANIZER;CN="Louisbourg Library":MAILTO:louisbourg@cbrl.ca
END:VEVENT
BEGIN:VEVENT
DTSTART;TZID=America/Halifax:20260422T103000
DTEND;TZID=America/Halifax:20260422T120000
DTSTAMP:20260423T203602
CREATED:20260330T174830Z
LAST-MODIFIED:20260330T174830Z
UID:10008051-1776853800-1776859200@cbrl.ca
SUMMARY:Coffee & Muffin Social
DESCRIPTION:Come join us for coffee and muffins. Enjoy new friendships. \nEveryone welcome. \n(Wednesday April 15\, 22\, 29 and May 6 from 10:30am-12noon) \n  \n 
URL:https://cbrl.ca/event/coffee-muffin-social/2026-04-22/
LOCATION:Sydney Mines Library\, 1 Fraser Ave\, Sydney Mines\, Nova Scotia\, B1V 0A9\, Canada
CATEGORIES:Adults & Seniors,Babies, Toddler & Preschool (0-5),Children (5-12),Teens
ATTACH;FMTTYPE=image/png:https://cbrl.ca/wp-content/uploads/2026/02/coffee-and-muffins.png
END:VEVENT
BEGIN:VEVENT
DTSTART;TZID=America/Halifax:20260422T103000
DTEND;TZID=America/Halifax:20260422T113000
DTSTAMP:20260423T203602
CREATED:20260102T183923Z
LAST-MODIFIED:20260102T183923Z
UID:10007057-1776853800-1776857400@cbrl.ca
SUMMARY:Tea & Trivia
DESCRIPTION:Tea and Trivia ~ Wednesdays at 10:30am \nOpen to adults. Registration is required. \nPhone 902-862-2892 for more information\, or to register.
URL:https://cbrl.ca/event/tea-trivia/2026-04-22/
LOCATION:New Waterford Library\, 3390 Plummer Ave\, New Waterford\, Nova Scotia\, B1H 4K4\, Canada
CATEGORIES:Adults & Seniors
ATTACH;FMTTYPE=image/png:https://cbrl.ca/wp-content/uploads/2025/04/tea-and-trivia-2.png
ORGANIZER;CN="New Waterford Library":MAILTO:newwaterford@cbrl.ca
END:VEVENT
BEGIN:VEVENT
DTSTART;TZID=America/Halifax:20260421T180000
DTEND;TZID=America/Halifax:20260421T193000
DTSTAMP:20260423T203602
CREATED:20260102T183519Z
LAST-MODIFIED:20260102T183519Z
UID:10007036-1776794400-1776799800@cbrl.ca
SUMMARY:Knitting Group
DESCRIPTION:Bring your knitting or crocheting and craft with others. \nOpen to all adults. No registration required.
URL:https://cbrl.ca/event/knitting-group/2026-04-21/
LOCATION:New Waterford Library\, 3390 Plummer Ave\, New Waterford\, Nova Scotia\, B1H 4K4\, Canada
CATEGORIES:Adults & Seniors
ATTACH;FMTTYPE=image/png:https://cbrl.ca/wp-content/uploads/2024/08/GB-Knitting.png
ORGANIZER;CN="New Waterford Library":MAILTO:newwaterford@cbrl.ca
END:VEVENT
BEGIN:VEVENT
DTSTART;TZID=America/Halifax:20260418T100000
DTEND;TZID=America/Halifax:20260418T120000
DTSTAMP:20260423T203602
CREATED:20260323T125653Z
LAST-MODIFIED:20260323T132141Z
UID:10008024-1776506400-1776513600@cbrl.ca
SUMMARY:Super Saturday: Earth Day Crafts!
DESCRIPTION:Join us at the New Waterford Library for “Earth Day Crafts” as well as plant your own take home plant!\nThis Program is open to all ages and no registration is require
URL:https://cbrl.ca/event/super-saturday-earth-day-crafts/
LOCATION:New Waterford Library\, 3390 Plummer Ave\, New Waterford\, Nova Scotia\, B1H 4K4\, Canada
CATEGORIES:Children (5-12)
ATTACH;FMTTYPE=image/png:https://cbrl.ca/wp-content/uploads/2026/03/earthday.png
ORGANIZER;CN="New Waterford Library":MAILTO:newwaterford@cbrl.ca
END:VEVENT
BEGIN:VEVENT
DTSTART;TZID=America/Halifax:20260417T103000
DTEND;TZID=America/Halifax:20260417T110000
DTSTAMP:20260423T203602
CREATED:20260109T184711Z
LAST-MODIFIED:20260109T185038Z
UID:10007256-1776421800-1776423600@cbrl.ca
SUMMARY:Story Time
DESCRIPTION:Join library staff for stories\, rhymes\, and songs. The story time activities are largely aimed at toddlers and preschoolers and their parents (or caregivers)\, but babies are also welcome and we have age-appropriate toys and books for all! \n\n\n\nNo registration for this fun activity. Drop-in. \n\n\n\nIf you have any questions\, email louisbourg@cbrl.ca.
URL:https://cbrl.ca/event/story-time-3/2026-04-17/
LOCATION:Louisbourg Library\, 10 Upper Warren St\, Louisbourg\, Nova Scotia\, B1C 1M6\, Canada
CATEGORIES:Babies, Toddler & Preschool (0-5)
ATTACH;FMTTYPE=image/png:https://cbrl.ca/wp-content/uploads/2024/01/Story-Time.png
ORGANIZER;CN="Louisbourg Library":MAILTO:louisbourg@cbrl.ca
END:VEVENT
BEGIN:VEVENT
DTSTART;TZID=America/Halifax:20260415T103000
DTEND;TZID=America/Halifax:20260415T120000
DTSTAMP:20260423T203602
CREATED:20260330T174830Z
LAST-MODIFIED:20260330T174830Z
UID:10008050-1776249000-1776254400@cbrl.ca
SUMMARY:Coffee & Muffin Social
DESCRIPTION:Come join us for coffee and muffins. Enjoy new friendships. \nEveryone welcome. \n(Wednesday April 15\, 22\, 29 and May 6 from 10:30am-12noon) \n  \n 
URL:https://cbrl.ca/event/coffee-muffin-social/2026-04-15/
LOCATION:Sydney Mines Library\, 1 Fraser Ave\, Sydney Mines\, Nova Scotia\, B1V 0A9\, Canada
CATEGORIES:Adults & Seniors,Babies, Toddler & Preschool (0-5),Children (5-12),Teens
ATTACH;FMTTYPE=image/png:https://cbrl.ca/wp-content/uploads/2026/02/coffee-and-muffins.png
END:VEVENT
BEGIN:VEVENT
DTSTART;TZID=America/Halifax:20260415T103000
DTEND;TZID=America/Halifax:20260415T113000
DTSTAMP:20260423T203602
CREATED:20260102T183923Z
LAST-MODIFIED:20260102T183923Z
UID:10007056-1776249000-1776252600@cbrl.ca
SUMMARY:Tea & Trivia
DESCRIPTION:Tea and Trivia ~ Wednesdays at 10:30am \nOpen to adults. Registration is required. \nPhone 902-862-2892 for more information\, or to register.
URL:https://cbrl.ca/event/tea-trivia/2026-04-15/
LOCATION:New Waterford Library\, 3390 Plummer Ave\, New Waterford\, Nova Scotia\, B1H 4K4\, Canada
CATEGORIES:Adults & Seniors
ATTACH;FMTTYPE=image/png:https://cbrl.ca/wp-content/uploads/2025/04/tea-and-trivia-2.png
ORGANIZER;CN="New Waterford Library":MAILTO:newwaterford@cbrl.ca
END:VEVENT
BEGIN:VEVENT
DTSTART;TZID=America/Halifax:20260414T180000
DTEND;TZID=America/Halifax:20260414T193000
DTSTAMP:20260423T203602
CREATED:20260102T183519Z
LAST-MODIFIED:20260102T183519Z
UID:10007035-1776189600-1776195000@cbrl.ca
SUMMARY:Knitting Group
DESCRIPTION:Bring your knitting or crocheting and craft with others. \nOpen to all adults. No registration required.
URL:https://cbrl.ca/event/knitting-group/2026-04-14/
LOCATION:New Waterford Library\, 3390 Plummer Ave\, New Waterford\, Nova Scotia\, B1H 4K4\, Canada
CATEGORIES:Adults & Seniors
ATTACH;FMTTYPE=image/png:https://cbrl.ca/wp-content/uploads/2024/08/GB-Knitting.png
ORGANIZER;CN="New Waterford Library":MAILTO:newwaterford@cbrl.ca
END:VEVENT
BEGIN:VEVENT
DTSTART;TZID=America/Halifax:20260414T150000
DTEND;TZID=America/Halifax:20260414T160000
DTSTAMP:20260423T203602
CREATED:20260325T133857Z
LAST-MODIFIED:20260325T134022Z
UID:10008030-1776178800-1776182400@cbrl.ca
SUMMARY:Advance Care Planning
DESCRIPTION:Imagine you had a fall or a stroke that resulted in you being unable to communicate. Would your loved ones know what help or care you would want\, or not want? Would they know how to speak on your behalf? This is where an Advanced Care Plan can help you and provide peace of mind for your loved ones. \nJoin Colleen MacKenzie\, a volunteer with the Nova Scotia Chapter of Dying with Dignity Canada to learn about Advance Care Planning and how you can have your wishes written down and shared with the right people. \nThis session is open to all members of the public.
URL:https://cbrl.ca/event/advance-care-planning/
LOCATION:Main-a-Dieu Library\, 2886 Louisbourg-Main-a-Dieu Rd\, Main-a-Dieu\, Nova Scotia\, B1C 1X5\, Canada
CATEGORIES:Adults & Seniors
ATTACH;FMTTYPE=image/png:https://cbrl.ca/wp-content/uploads/2025/01/Caregivers.png
END:VEVENT
BEGIN:VEVENT
DTSTART;TZID=America/Halifax:20260411T100000
DTEND;TZID=America/Halifax:20260411T120000
DTSTAMP:20260423T203602
CREATED:20260320T191306Z
LAST-MODIFIED:20260320T191306Z
UID:10008022-1775901600-1775908800@cbrl.ca
SUMMARY:Lego Time
DESCRIPTION:It’s everyone’s favorite: Lego day! Come see what you can make with our favorite bricks.\nThis program is open to all ages and no registration required.
URL:https://cbrl.ca/event/lego-time/
LOCATION:New Waterford Library\, 3390 Plummer Ave\, New Waterford\, Nova Scotia\, B1H 4K4\, Canada
CATEGORIES:Children (5-12)
ATTACH;FMTTYPE=image/png:https://cbrl.ca/wp-content/uploads/2026/02/Untitled-design.png
ORGANIZER;CN="New Waterford Library":MAILTO:newwaterford@cbrl.ca
END:VEVENT
BEGIN:VEVENT
DTSTART;TZID=America/Halifax:20260410T103000
DTEND;TZID=America/Halifax:20260410T110000
DTSTAMP:20260423T203602
CREATED:20260109T184711Z
LAST-MODIFIED:20260109T185038Z
UID:10007255-1775817000-1775818800@cbrl.ca
SUMMARY:Story Time
DESCRIPTION:Join library staff for stories\, rhymes\, and songs. The story time activities are largely aimed at toddlers and preschoolers and their parents (or caregivers)\, but babies are also welcome and we have age-appropriate toys and books for all! \n\n\n\nNo registration for this fun activity. Drop-in. \n\n\n\nIf you have any questions\, email louisbourg@cbrl.ca.
URL:https://cbrl.ca/event/story-time-3/2026-04-10/
LOCATION:Louisbourg Library\, 10 Upper Warren St\, Louisbourg\, Nova Scotia\, B1C 1M6\, Canada
CATEGORIES:Babies, Toddler & Preschool (0-5)
ATTACH;FMTTYPE=image/png:https://cbrl.ca/wp-content/uploads/2024/01/Story-Time.png
ORGANIZER;CN="Louisbourg Library":MAILTO:louisbourg@cbrl.ca
END:VEVENT
BEGIN:VEVENT
DTSTART;TZID=America/Halifax:20260408T103000
DTEND;TZID=America/Halifax:20260408T113000
DTSTAMP:20260423T203602
CREATED:20260102T183923Z
LAST-MODIFIED:20260102T183923Z
UID:10007055-1775644200-1775647800@cbrl.ca
SUMMARY:Tea & Trivia
DESCRIPTION:Tea and Trivia ~ Wednesdays at 10:30am \nOpen to adults. Registration is required. \nPhone 902-862-2892 for more information\, or to register.
URL:https://cbrl.ca/event/tea-trivia/2026-04-08/
LOCATION:New Waterford Library\, 3390 Plummer Ave\, New Waterford\, Nova Scotia\, B1H 4K4\, Canada
CATEGORIES:Adults & Seniors
ATTACH;FMTTYPE=image/png:https://cbrl.ca/wp-content/uploads/2025/04/tea-and-trivia-2.png
ORGANIZER;CN="New Waterford Library":MAILTO:newwaterford@cbrl.ca
END:VEVENT
BEGIN:VEVENT
DTSTART;TZID=America/Halifax:20260407T180000
DTEND;TZID=America/Halifax:20260407T193000
DTSTAMP:20260423T203602
CREATED:20260102T183519Z
LAST-MODIFIED:20260102T183519Z
UID:10007034-1775584800-1775590200@cbrl.ca
SUMMARY:Knitting Group
DESCRIPTION:Bring your knitting or crocheting and craft with others. \nOpen to all adults. No registration required.
URL:https://cbrl.ca/event/knitting-group/2026-04-07/
LOCATION:New Waterford Library\, 3390 Plummer Ave\, New Waterford\, Nova Scotia\, B1H 4K4\, Canada
CATEGORIES:Adults & Seniors
ATTACH;FMTTYPE=image/png:https://cbrl.ca/wp-content/uploads/2024/08/GB-Knitting.png
ORGANIZER;CN="New Waterford Library":MAILTO:newwaterford@cbrl.ca
END:VEVENT
BEGIN:VEVENT
DTSTART;TZID=America/Halifax:20260407T110000
DTEND;TZID=America/Halifax:20260407T150000
DTSTAMP:20260423T203602
CREATED:20260320T184052Z
LAST-MODIFIED:20260320T184356Z
UID:10008020-1775559600-1775574000@cbrl.ca
SUMMARY:Digital Literacy Training – New Waterford Library
DESCRIPTION:Our Digital Literacy Trainer will be on-site in New Waterford to host one-on-one sessions on Tuesday\, April 7th.\nWe can help you do more with computers and mobile devices\, learn about library apps like Libby and Pressreader\, solve tech related problems and more! Sign up By calling the New Waterford library at 902-862-2892 or by stopping by the branch and filling out a Technology Assistance Request Form. All skill levels and technical abilities are welcome!
URL:https://cbrl.ca/event/digital-literacy-training-new-waterford-library/
LOCATION:New Waterford Library\, 3390 Plummer Ave\, New Waterford\, Nova Scotia\, B1H 4K4\, Canada
CATEGORIES:Adults & Seniors
ATTACH;FMTTYPE=image/png:https://cbrl.ca/wp-content/uploads/2026/03/matthew.png
ORGANIZER;CN="New Waterford Library":MAILTO:newwaterford@cbrl.ca
END:VEVENT
BEGIN:VEVENT
DTSTART;TZID=America/Halifax:20260404T100000
DTEND;TZID=America/Halifax:20260404T120000
DTSTAMP:20260423T203602
CREATED:20260320T190322Z
LAST-MODIFIED:20260323T121543Z
UID:10008021-1775296800-1775304000@cbrl.ca
SUMMARY:Super Mario Party!
DESCRIPTION:Join us as at the New Waterford Library as we celebrate the release of the Super Mario Movie with fun and games!\nThis program is open to all ages and no registration required.
URL:https://cbrl.ca/event/super-mario-party/
LOCATION:New Waterford Library\, 3390 Plummer Ave\, New Waterford\, Nova Scotia\, B1H 4K4\, Canada
CATEGORIES:Children (5-12),Teens
ATTACH;FMTTYPE=image/png:https://cbrl.ca/wp-content/uploads/2026/03/mario-1.png
ORGANIZER;CN="New Waterford Library":MAILTO:newwaterford@cbrl.ca
END:VEVENT
BEGIN:VEVENT
DTSTART;TZID=America/Halifax:20260401T103000
DTEND;TZID=America/Halifax:20260401T113000
DTSTAMP:20260423T203602
CREATED:20260102T183923Z
LAST-MODIFIED:20260102T183923Z
UID:10007054-1775039400-1775043000@cbrl.ca
SUMMARY:Tea & Trivia
DESCRIPTION:Tea and Trivia ~ Wednesdays at 10:30am \nOpen to adults. Registration is required. \nPhone 902-862-2892 for more information\, or to register.
URL:https://cbrl.ca/event/tea-trivia/2026-04-01/
LOCATION:New Waterford Library\, 3390 Plummer Ave\, New Waterford\, Nova Scotia\, B1H 4K4\, Canada
CATEGORIES:Adults & Seniors
ATTACH;FMTTYPE=image/png:https://cbrl.ca/wp-content/uploads/2025/04/tea-and-trivia-2.png
ORGANIZER;CN="New Waterford Library":MAILTO:newwaterford@cbrl.ca
END:VEVENT
BEGIN:VEVENT
DTSTART;TZID=America/Halifax:20260331T180000
DTEND;TZID=America/Halifax:20260331T193000
DTSTAMP:20260423T203602
CREATED:20260102T183519Z
LAST-MODIFIED:20260102T183519Z
UID:10007033-1774980000-1774985400@cbrl.ca
SUMMARY:Knitting Group
DESCRIPTION:Bring your knitting or crocheting and craft with others. \nOpen to all adults. No registration required.
URL:https://cbrl.ca/event/knitting-group/2026-03-31/
LOCATION:New Waterford Library\, 3390 Plummer Ave\, New Waterford\, Nova Scotia\, B1H 4K4\, Canada
CATEGORIES:Adults & Seniors
ATTACH;FMTTYPE=image/png:https://cbrl.ca/wp-content/uploads/2024/08/GB-Knitting.png
ORGANIZER;CN="New Waterford Library":MAILTO:newwaterford@cbrl.ca
END:VEVENT
BEGIN:VEVENT
DTSTART;TZID=America/Halifax:20260328T143000
DTEND;TZID=America/Halifax:20260328T160000
DTSTAMP:20260423T203602
CREATED:20260109T181027Z
LAST-MODIFIED:20260109T181027Z
UID:10007218-1774708200-1774713600@cbrl.ca
SUMMARY:Easter Craft
DESCRIPTION:It’s almost Easter. Make an adorable pom pom chick and enjoy some treats with us! \n  \n 
URL:https://cbrl.ca/event/easter-craft/
LOCATION:Louisbourg Library\, 10 Upper Warren St\, Louisbourg\, Nova Scotia\, B1C 1M6\, Canada
CATEGORIES:Children (5-12)
ATTACH;FMTTYPE=image/png:https://cbrl.ca/wp-content/uploads/2026/01/BabyChick.png
ORGANIZER;CN="Louisbourg Library":MAILTO:louisbourg@cbrl.ca
END:VEVENT
BEGIN:VEVENT
DTSTART;TZID=America/Halifax:20260328T100000
DTEND;TZID=America/Halifax:20260328T120000
DTSTAMP:20260423T203602
CREATED:20260217T140425Z
LAST-MODIFIED:20260323T121505Z
UID:10007935-1774692000-1774699200@cbrl.ca
SUMMARY:Easter Party!
DESCRIPTION:Hop on down to the New Waterford Library for an egg-cellent easter celebration!
URL:https://cbrl.ca/event/elephant-toothpaste/
LOCATION:New Waterford Library\, 3390 Plummer Ave\, New Waterford\, Nova Scotia\, B1H 4K4\, Canada
CATEGORIES:Children (5-12)
ATTACH;FMTTYPE=image/png:https://cbrl.ca/wp-content/uploads/2026/02/easter-party.png
ORGANIZER;CN="New Waterford Library":MAILTO:newwaterford@cbrl.ca
END:VEVENT
BEGIN:VEVENT
DTSTART;TZID=America/Halifax:20260327T103000
DTEND;TZID=America/Halifax:20260327T110000
DTSTAMP:20260423T203602
CREATED:20260109T184711Z
LAST-MODIFIED:20260109T185038Z
UID:10007254-1774607400-1774609200@cbrl.ca
SUMMARY:Story Time
DESCRIPTION:Join library staff for stories\, rhymes\, and songs. The story time activities are largely aimed at toddlers and preschoolers and their parents (or caregivers)\, but babies are also welcome and we have age-appropriate toys and books for all! \n\n\n\nNo registration for this fun activity. Drop-in. \n\n\n\nIf you have any questions\, email louisbourg@cbrl.ca.
URL:https://cbrl.ca/event/story-time-3/2026-03-27/
LOCATION:Louisbourg Library\, 10 Upper Warren St\, Louisbourg\, Nova Scotia\, B1C 1M6\, Canada
CATEGORIES:Babies, Toddler & Preschool (0-5)
ATTACH;FMTTYPE=image/png:https://cbrl.ca/wp-content/uploads/2024/01/Story-Time.png
ORGANIZER;CN="Louisbourg Library":MAILTO:louisbourg@cbrl.ca
END:VEVENT
BEGIN:VEVENT
DTSTART;TZID=America/Halifax:20260325T103000
DTEND;TZID=America/Halifax:20260325T113000
DTSTAMP:20260423T203602
CREATED:20260102T183923Z
LAST-MODIFIED:20260102T183923Z
UID:10007053-1774434600-1774438200@cbrl.ca
SUMMARY:Tea & Trivia
DESCRIPTION:Tea and Trivia ~ Wednesdays at 10:30am \nOpen to adults. Registration is required. \nPhone 902-862-2892 for more information\, or to register.
URL:https://cbrl.ca/event/tea-trivia/2026-03-25/
LOCATION:New Waterford Library\, 3390 Plummer Ave\, New Waterford\, Nova Scotia\, B1H 4K4\, Canada
CATEGORIES:Adults & Seniors
ATTACH;FMTTYPE=image/png:https://cbrl.ca/wp-content/uploads/2025/04/tea-and-trivia-2.png
ORGANIZER;CN="New Waterford Library":MAILTO:newwaterford@cbrl.ca
END:VEVENT
BEGIN:VEVENT
DTSTART;TZID=America/Halifax:20260324T180000
DTEND;TZID=America/Halifax:20260324T193000
DTSTAMP:20260423T203602
CREATED:20260102T183519Z
LAST-MODIFIED:20260102T183519Z
UID:10007032-1774375200-1774380600@cbrl.ca
SUMMARY:Knitting Group
DESCRIPTION:Bring your knitting or crocheting and craft with others. \nOpen to all adults. No registration required.
URL:https://cbrl.ca/event/knitting-group/2026-03-24/
LOCATION:New Waterford Library\, 3390 Plummer Ave\, New Waterford\, Nova Scotia\, B1H 4K4\, Canada
CATEGORIES:Adults & Seniors
ATTACH;FMTTYPE=image/png:https://cbrl.ca/wp-content/uploads/2024/08/GB-Knitting.png
ORGANIZER;CN="New Waterford Library":MAILTO:newwaterford@cbrl.ca
END:VEVENT
BEGIN:VEVENT
DTSTART;TZID=America/Halifax:20260324T140000
DTEND;TZID=America/Halifax:20260324T160000
DTSTAMP:20260423T203602
CREATED:20260306T140325Z
LAST-MODIFIED:20260306T140325Z
UID:10007980-1774360800-1774368000@cbrl.ca
SUMMARY:Second Annual Puzzle Competition
DESCRIPTION:Join us at the New Waterford Library for our second annual puzzle competition! Five teams are welcome with up to five puzzlers on a team. Each team will have two hours to complete the same puzzle. If no one finishes it\, the team closest to finishing it will win. This is a registered event. Please call the Library at 902-862-2892 to reserve your spot.
URL:https://cbrl.ca/event/second-annual-puzzle-competition/2026-03-24/2/
LOCATION:New Waterford Library\, 3390 Plummer Ave\, New Waterford\, Nova Scotia\, B1H 4K4\, Canada
CATEGORIES:Adults & Seniors
ATTACH;FMTTYPE=image/png:https://cbrl.ca/wp-content/uploads/2026/03/Colorful-Illustration-Happy-National-Puzzle-Day-Instagram-Post.png
ORGANIZER;CN="New Waterford Library":MAILTO:newwaterford@cbrl.ca
END:VEVENT
BEGIN:VEVENT
DTSTART;TZID=America/Halifax:20260324T080000
DTEND;TZID=America/Halifax:20260324T170000
DTSTAMP:20260423T203602
CREATED:20260306T140325Z
LAST-MODIFIED:20260306T140325Z
UID:10007979-1774339200-1774371600@cbrl.ca
SUMMARY:Second Annual Puzzle Competition
DESCRIPTION:Join us at the New Waterford Library for our second annual puzzle competition! Five teams are welcome with up to five puzzlers on a team. Each team will have two hours to complete the same puzzle. If no one finishes it\, the team closest to finishing it will win. This is a registered event. Please call the Library at 902-862-2892 to reserve your spot.
URL:https://cbrl.ca/event/second-annual-puzzle-competition/2026-03-24/1/
LOCATION:New Waterford Library\, 3390 Plummer Ave\, New Waterford\, Nova Scotia\, B1H 4K4\, Canada
CATEGORIES:Adults & Seniors
ATTACH;FMTTYPE=image/png:https://cbrl.ca/wp-content/uploads/2026/03/Colorful-Illustration-Happy-National-Puzzle-Day-Instagram-Post.png
ORGANIZER;CN="New Waterford Library":MAILTO:newwaterford@cbrl.ca
END:VEVENT
BEGIN:VEVENT
DTSTART;VALUE=DATE:20260324
DTEND;VALUE=DATE:20260329
DTSTAMP:20260423T203602
CREATED:20260113T152929Z
LAST-MODIFIED:20260113T153405Z
UID:10007282-1774310400-1774742399@cbrl.ca
SUMMARY:Micro-Fiction Contest
DESCRIPTION:Calling all writers! The Louisbourg library would like to invite you to enter our Micro-Fiction Contest. Interested patrons can visit the Louisbourg branch to receive their prompt(s). There are four age categories: 10-12 yrs\, 13-15 yrs\, 16-18 yrs and Adult. All stories are to be 300 words or less. Your stories will be displayed anonymously to be judged by our community. \nPick up prompts: Tues. Mar.24-Sat.Mar.28\nHand in micro-fiction: Tues. Apr.7-Fri. Apr.10\nCommunity vote: Tues. Apr.14-Sat. Apr.18\nWinners announced: Tues. Apr.21
URL:https://cbrl.ca/event/micro-fiction-contest/
LOCATION:Louisbourg Library\, 10 Upper Warren St\, Louisbourg\, Nova Scotia\, B1C 1M6\, Canada
CATEGORIES:Adults & Seniors,Children (5-12),Teens
ATTACH;FMTTYPE=image/png:https://cbrl.ca/wp-content/uploads/2026/01/WritingContest.png
ORGANIZER;CN="Louisbourg Library":MAILTO:louisbourg@cbrl.ca
END:VEVENT
BEGIN:VEVENT
DTSTART;TZID=America/Halifax:20260321T100000
DTEND;TZID=America/Halifax:20260321T120000
DTSTAMP:20260423T203602
CREATED:20260217T135907Z
LAST-MODIFIED:20260217T135907Z
UID:10007934-1774087200-1774094400@cbrl.ca
SUMMARY:Did someone say Candy Sushi?!!
DESCRIPTION:Drop by the New Waterford Library and help make your own candy Sushi to go. Yummy!
URL:https://cbrl.ca/event/did-someone-say-candy-sushi/
LOCATION:New Waterford Library\, 3390 Plummer Ave\, New Waterford\, Nova Scotia\, B1H 4K4\, Canada
CATEGORIES:Children (5-12)
ATTACH;FMTTYPE=image/png:https://cbrl.ca/wp-content/uploads/2026/02/Gold-and-Black-Luxury-Background-Instagram-Post.png
ORGANIZER;CN="New Waterford Library":MAILTO:newwaterford@cbrl.ca
END:VEVENT
BEGIN:VEVENT
DTSTART;TZID=America/Halifax:20260320T143000
DTEND;TZID=America/Halifax:20260320T163000
DTSTAMP:20260423T203602
CREATED:20260109T180942Z
LAST-MODIFIED:20260109T180942Z
UID:10007217-1774017000-1774024200@cbrl.ca
SUMMARY:Pressed Flower Pinch Pots
DESCRIPTION:Make an air-dry clay pinch pot\, decorated with dried flowers to celebrate the first day of Spring! This event is for all ages.
URL:https://cbrl.ca/event/pressed-flower-pinch-pots/
LOCATION:Louisbourg Library\, 10 Upper Warren St\, Louisbourg\, Nova Scotia\, B1C 1M6\, Canada
CATEGORIES:Adults & Seniors,Babies, Toddler & Preschool (0-5),Children (5-12),Teens
ATTACH;FMTTYPE=image/png:https://cbrl.ca/wp-content/uploads/2026/01/flowerClay.png
ORGANIZER;CN="Louisbourg Library":MAILTO:louisbourg@cbrl.ca
END:VEVENT
BEGIN:VEVENT
DTSTART;TZID=America/Halifax:20260320T140000
DTEND;TZID=America/Halifax:20260320T160000
DTSTAMP:20260423T203602
CREATED:20260212T215407Z
LAST-MODIFIED:20260212T215407Z
UID:10007929-1774015200-1774022400@cbrl.ca
SUMMARY:Make Bracelets and Paper Butterfly Sun-Catchers
DESCRIPTION:Use your imagination and make some lovely bracelets for yourself or for anyone you please.  Make a little sun-catcher for your window. \nRegistration not required. For ages 5+ \n  \n  \n  \n  \n  \n 
URL:https://cbrl.ca/event/make-bracelets-and-paper-butterfly-sun-catchers/
LOCATION:Sydney Mines Library\, 1 Fraser Ave\, Sydney Mines\, Nova Scotia\, B1V 0A9\, Canada
CATEGORIES:Children (5-12)
ATTACH;FMTTYPE=image/png:https://cbrl.ca/wp-content/uploads/2026/02/Sun-catcher-and-bracelet.png
END:VEVENT
BEGIN:VEVENT
DTSTART;TZID=America/Halifax:20260320T103000
DTEND;TZID=America/Halifax:20260320T110000
DTSTAMP:20260423T203602
CREATED:20260109T184711Z
LAST-MODIFIED:20260109T185038Z
UID:10007253-1774002600-1774004400@cbrl.ca
SUMMARY:Story Time
DESCRIPTION:Join library staff for stories\, rhymes\, and songs. The story time activities are largely aimed at toddlers and preschoolers and their parents (or caregivers)\, but babies are also welcome and we have age-appropriate toys and books for all! \n\n\n\nNo registration for this fun activity. Drop-in. \n\n\n\nIf you have any questions\, email louisbourg@cbrl.ca.
URL:https://cbrl.ca/event/story-time-3/2026-03-20/
LOCATION:Louisbourg Library\, 10 Upper Warren St\, Louisbourg\, Nova Scotia\, B1C 1M6\, Canada
CATEGORIES:Babies, Toddler & Preschool (0-5)
ATTACH;FMTTYPE=image/png:https://cbrl.ca/wp-content/uploads/2024/01/Story-Time.png
ORGANIZER;CN="Louisbourg Library":MAILTO:louisbourg@cbrl.ca
END:VEVENT
END:VCALENDAR