BEGIN:VCALENDAR
VERSION:2.0
PRODID:-//Cape Breton Regional Library - ECPv6.15.20//NONSGML v1.0//EN
CALSCALE:GREGORIAN
METHOD:PUBLISH
X-WR-CALNAME:Cape Breton Regional Library
X-ORIGINAL-URL:https://cbrl.ca
X-WR-CALDESC:Events for Cape Breton Regional Library
REFRESH-INTERVAL;VALUE=DURATION:PT1H
X-Robots-Tag:noindex
X-PUBLISHED-TTL:PT1H
BEGIN:VTIMEZONE
TZID:America/Halifax
BEGIN:DAYLIGHT
TZOFFSETFROM:-0400
TZOFFSETTO:-0300
TZNAME:ADT
DTSTART:20250309T060000
END:DAYLIGHT
BEGIN:STANDARD
TZOFFSETFROM:-0300
TZOFFSETTO:-0400
TZNAME:AST
DTSTART:20251102T050000
END:STANDARD
BEGIN:DAYLIGHT
TZOFFSETFROM:-0400
TZOFFSETTO:-0300
TZNAME:ADT
DTSTART:20260308T060000
END:DAYLIGHT
BEGIN:STANDARD
TZOFFSETFROM:-0300
TZOFFSETTO:-0400
TZNAME:AST
DTSTART:20261101T050000
END:STANDARD
BEGIN:DAYLIGHT
TZOFFSETFROM:-0400
TZOFFSETTO:-0300
TZNAME:ADT
DTSTART:20270314T060000
END:DAYLIGHT
BEGIN:STANDARD
TZOFFSETFROM:-0300
TZOFFSETTO:-0400
TZNAME:AST
DTSTART:20271107T050000
END:STANDARD
END:VTIMEZONE
BEGIN:VEVENT
DTSTART;TZID=America/Halifax:20260424T103000
DTEND;TZID=America/Halifax:20260424T110000
DTSTAMP:20260423T184143
CREATED:20260109T184711Z
LAST-MODIFIED:20260109T185038Z
UID:10007257-1777026600-1777028400@cbrl.ca
SUMMARY:Story Time
DESCRIPTION:Join library staff for stories\, rhymes\, and songs. The story time activities are largely aimed at toddlers and preschoolers and their parents (or caregivers)\, but babies are also welcome and we have age-appropriate toys and books for all! \n\n\n\nNo registration for this fun activity. Drop-in. \n\n\n\nIf you have any questions\, email louisbourg@cbrl.ca.
URL:https://cbrl.ca/event/story-time-3/2026-04-24/
LOCATION:Louisbourg Library\, 10 Upper Warren St\, Louisbourg\, Nova Scotia\, B1C 1M6\, Canada
CATEGORIES:Babies, Toddler & Preschool (0-5)
ATTACH;FMTTYPE=image/png:https://cbrl.ca/wp-content/uploads/2024/01/Story-Time.png
ORGANIZER;CN="Louisbourg Library":MAILTO:louisbourg@cbrl.ca
END:VEVENT
BEGIN:VEVENT
DTSTART;TZID=America/Halifax:20260424T133000
DTEND;TZID=America/Halifax:20260424T153000
DTSTAMP:20260423T184143
CREATED:20260109T184035Z
LAST-MODIFIED:20260109T184035Z
UID:10007235-1777037400-1777044600@cbrl.ca
SUMMARY:Knitting/ Crafters Club
DESCRIPTION:Join other knitters and crafters on Friday afternoons for a time to chat and work on your knitting projects.
URL:https://cbrl.ca/event/knitting-crafters-club/2026-04-24/
LOCATION:Glace Bay Library\, 143 Commercial Street\, Glace Bay\, Nova Scotia\, B1A 3B9\, Canada
CATEGORIES:Adults & Seniors
ATTACH;FMTTYPE=image/png:https://cbrl.ca/wp-content/uploads/2024/08/GB-Knitting.png
ORGANIZER;CN="Glace Bay Library":MAILTO:glacebay@cbrl.ca
END:VEVENT
BEGIN:VEVENT
DTSTART;TZID=America/Halifax:20260425T140000
DTEND;TZID=America/Halifax:20260425T160000
DTSTAMP:20260423T184143
CREATED:20260108T175144Z
LAST-MODIFIED:20260108T175144Z
UID:10007206-1777125600-1777132800@cbrl.ca
SUMMARY:JR D&D
DESCRIPTION:Children (ages 5-12) are welcome to the library for an afternoon of D&D.
URL:https://cbrl.ca/event/jr-dd/2026-04-25/
LOCATION:Glace Bay Library\, 143 Commercial Street\, Glace Bay\, Nova Scotia\, B1A 3B9\, Canada
CATEGORIES:Children (5-12)
ATTACH;FMTTYPE=image/png:https://cbrl.ca/wp-content/uploads/2024/08/GB-Jr-DD.png
ORGANIZER;CN="Glace Bay Library":MAILTO:glacebay@cbrl.ca
END:VEVENT
BEGIN:VEVENT
DTSTART;TZID=America/Halifax:20260425T143000
DTEND;TZID=America/Halifax:20260425T163000
DTSTAMP:20260423T184143
CREATED:20260407T142351Z
LAST-MODIFIED:20260407T142451Z
UID:10008136-1777127400-1777134600@cbrl.ca
SUMMARY:Seniors Saturday Scrabble
DESCRIPTION:Enjoy an afternoon of Scrabble. Bring a friend or make a new one! Tea and light refreshments will be provided. \nThis is a registered program. please email the Branch at: louisbourg@cbrl.ca or phone at: 902-733-3608 to reserve your spot! \n 
URL:https://cbrl.ca/event/seniors-saturday-scrabble/
LOCATION:Louisbourg Library\, 10 Upper Warren St\, Louisbourg\, Nova Scotia\, B1C 1M6\, Canada
CATEGORIES:Adults & Seniors
ORGANIZER;CN="Louisbourg Library":MAILTO:louisbourg@cbrl.ca
END:VEVENT
BEGIN:VEVENT
DTSTART;TZID=America/Halifax:20260427T153000
DTEND;TZID=America/Halifax:20260427T193000
DTSTAMP:20260423T184143
CREATED:20250813T163816Z
LAST-MODIFIED:20260121T203157Z
UID:10006155-1777303800-1777318200@cbrl.ca
SUMMARY:Dungeons & Dragons
DESCRIPTION:Join our Dungeons and Dragons group (for teens and adults).
URL:https://cbrl.ca/event/dungeons-dragons-3/2026-04-27/
LOCATION:Glace Bay Library\, 143 Commercial Street\, Glace Bay\, Nova Scotia\, B1A 3B9\, Canada
CATEGORIES:Adults & Seniors,Teens
ATTACH;FMTTYPE=image/png:https://cbrl.ca/wp-content/uploads/2025/05/D-and-D-IMAGE.png
ORGANIZER;CN="Glace Bay Library":MAILTO:glacebay@cbrl.ca
END:VEVENT
BEGIN:VEVENT
DTSTART;TZID=America/Halifax:20260429T103000
DTEND;TZID=America/Halifax:20260429T120000
DTSTAMP:20260423T184143
CREATED:20260330T174830Z
LAST-MODIFIED:20260330T174830Z
UID:10008052-1777458600-1777464000@cbrl.ca
SUMMARY:Coffee & Muffin Social
DESCRIPTION:Come join us for coffee and muffins. Enjoy new friendships. \nEveryone welcome. \n(Wednesday April 15\, 22\, 29 and May 6 from 10:30am-12noon) \n  \n 
URL:https://cbrl.ca/event/coffee-muffin-social/2026-04-29/
LOCATION:Sydney Mines Library\, 1 Fraser Ave\, Sydney Mines\, Nova Scotia\, B1V 0A9\, Canada
CATEGORIES:Adults & Seniors,Babies, Toddler & Preschool (0-5),Children (5-12),Teens
ATTACH;FMTTYPE=image/png:https://cbrl.ca/wp-content/uploads/2026/02/coffee-and-muffins.png
END:VEVENT
BEGIN:VEVENT
DTSTART;TZID=America/Halifax:20260429T180000
DTEND;TZID=America/Halifax:20260429T190000
DTSTAMP:20260423T184143
CREATED:20260310T141630Z
LAST-MODIFIED:20260410T140658Z
UID:10007985-1777485600-1777489200@cbrl.ca
SUMMARY:April Art Night - Dirty Pour *Program FULL
DESCRIPTION:*This program is FULL. \nGet down and dirty with our Dirty Pour Paint Night. \nThis art evening is for teens and adults. \nRegistration required. Please call 902-849-8657 or email us at glacebay@cbrl.ca \n  \n 
URL:https://cbrl.ca/event/april-art-night-dirty-pour/
LOCATION:Glace Bay Library\, 143 Commercial Street\, Glace Bay\, Nova Scotia\, B1A 3B9\, Canada
CATEGORIES:Adults & Seniors,Teens
ATTACH;FMTTYPE=image/png:https://cbrl.ca/wp-content/uploads/2026/03/Paint-Pour.png
ORGANIZER;CN="Glace Bay Library":MAILTO:glacebay@cbrl.ca
END:VEVENT
BEGIN:VEVENT
DTSTART;TZID=America/Halifax:20260501T103000
DTEND;TZID=America/Halifax:20260501T110000
DTSTAMP:20260423T184143
CREATED:20260109T184711Z
LAST-MODIFIED:20260109T185038Z
UID:10007258-1777631400-1777633200@cbrl.ca
SUMMARY:Story Time
DESCRIPTION:Join library staff for stories\, rhymes\, and songs. The story time activities are largely aimed at toddlers and preschoolers and their parents (or caregivers)\, but babies are also welcome and we have age-appropriate toys and books for all! \n\n\n\nNo registration for this fun activity. Drop-in. \n\n\n\nIf you have any questions\, email louisbourg@cbrl.ca.
URL:https://cbrl.ca/event/story-time-3/2026-05-01/
LOCATION:Louisbourg Library\, 10 Upper Warren St\, Louisbourg\, Nova Scotia\, B1C 1M6\, Canada
CATEGORIES:Babies, Toddler & Preschool (0-5)
ATTACH;FMTTYPE=image/png:https://cbrl.ca/wp-content/uploads/2024/01/Story-Time.png
ORGANIZER;CN="Louisbourg Library":MAILTO:louisbourg@cbrl.ca
END:VEVENT
BEGIN:VEVENT
DTSTART;TZID=America/Halifax:20260501T133000
DTEND;TZID=America/Halifax:20260501T153000
DTSTAMP:20260423T184143
CREATED:20260109T184035Z
LAST-MODIFIED:20260109T184035Z
UID:10007236-1777642200-1777649400@cbrl.ca
SUMMARY:Knitting/ Crafters Club
DESCRIPTION:Join other knitters and crafters on Friday afternoons for a time to chat and work on your knitting projects.
URL:https://cbrl.ca/event/knitting-crafters-club/2026-05-01/
LOCATION:Glace Bay Library\, 143 Commercial Street\, Glace Bay\, Nova Scotia\, B1A 3B9\, Canada
CATEGORIES:Adults & Seniors
ATTACH;FMTTYPE=image/png:https://cbrl.ca/wp-content/uploads/2024/08/GB-Knitting.png
ORGANIZER;CN="Glace Bay Library":MAILTO:glacebay@cbrl.ca
END:VEVENT
BEGIN:VEVENT
DTSTART;TZID=America/Halifax:20260502T140000
DTEND;TZID=America/Halifax:20260502T160000
DTSTAMP:20260423T184143
CREATED:20260108T175144Z
LAST-MODIFIED:20260108T175144Z
UID:10007207-1777730400-1777737600@cbrl.ca
SUMMARY:JR D&D
DESCRIPTION:Children (ages 5-12) are welcome to the library for an afternoon of D&D.
URL:https://cbrl.ca/event/jr-dd/2026-05-02/
LOCATION:Glace Bay Library\, 143 Commercial Street\, Glace Bay\, Nova Scotia\, B1A 3B9\, Canada
CATEGORIES:Children (5-12)
ATTACH;FMTTYPE=image/png:https://cbrl.ca/wp-content/uploads/2024/08/GB-Jr-DD.png
ORGANIZER;CN="Glace Bay Library":MAILTO:glacebay@cbrl.ca
END:VEVENT
BEGIN:VEVENT
DTSTART;TZID=America/Halifax:20260502T143000
DTEND;TZID=America/Halifax:20260502T160000
DTSTAMP:20260423T184143
CREATED:20260407T144343Z
LAST-MODIFIED:20260407T144343Z
UID:10008141-1777732200-1777737600@cbrl.ca
SUMMARY:Plant a Seed
DESCRIPTION:Children will enjoy planting a pot with pea and nasturtium seeds which they can take home to nurture\, followed by stories and snacks. \nThis program is aimed towards kids grade primary to six. Registration is required. Please email the Branch at: louisbourg@cbrl.ca or phone at: 902-733-3608 to reserve your spot! \n  \n  \n 
URL:https://cbrl.ca/event/plant-a-seed/
LOCATION:Louisbourg Library\, 10 Upper Warren St\, Louisbourg\, Nova Scotia\, B1C 1M6\, Canada
CATEGORIES:Children (5-12)
ATTACH;FMTTYPE=image/png:https://cbrl.ca/wp-content/uploads/2026/04/plant.png
ORGANIZER;CN="Louisbourg Library":MAILTO:louisbourg@cbrl.ca
END:VEVENT
BEGIN:VEVENT
DTSTART;TZID=America/Halifax:20260504T153000
DTEND;TZID=America/Halifax:20260504T193000
DTSTAMP:20260423T184143
CREATED:20250813T163816Z
LAST-MODIFIED:20260121T203157Z
UID:10006156-1777908600-1777923000@cbrl.ca
SUMMARY:Dungeons & Dragons
DESCRIPTION:Join our Dungeons and Dragons group (for teens and adults).
URL:https://cbrl.ca/event/dungeons-dragons-3/2026-05-04/
LOCATION:Glace Bay Library\, 143 Commercial Street\, Glace Bay\, Nova Scotia\, B1A 3B9\, Canada
CATEGORIES:Adults & Seniors,Teens
ATTACH;FMTTYPE=image/png:https://cbrl.ca/wp-content/uploads/2025/05/D-and-D-IMAGE.png
ORGANIZER;CN="Glace Bay Library":MAILTO:glacebay@cbrl.ca
END:VEVENT
BEGIN:VEVENT
DTSTART;TZID=America/Halifax:20260505T153000
DTEND;TZID=America/Halifax:20260505T170000
DTSTAMP:20260423T184143
CREATED:20260423T183806Z
LAST-MODIFIED:20260423T183806Z
UID:10008188-1777995000-1778000400@cbrl.ca
SUMMARY:Homework Hangout
DESCRIPTION:Are you a Middle School student in the Glace Bay area? Join NSCC Social Service students for some help with your homework\, have a snack and hangout. \n  \n  \n 
URL:https://cbrl.ca/event/homework-hangout/2026-05-05/
LOCATION:Glace Bay Library\, 143 Commercial Street\, Glace Bay\, Nova Scotia\, B1A 3B9\, Canada
CATEGORIES:Teens
ATTACH;FMTTYPE=image/png:https://cbrl.ca/wp-content/uploads/2026/04/Homework.png
ORGANIZER;CN="Glace Bay Library":MAILTO:glacebay@cbrl.ca
END:VEVENT
BEGIN:VEVENT
DTSTART;TZID=America/Halifax:20260505T180000
DTEND;TZID=America/Halifax:20260505T200000
DTSTAMP:20260423T184143
CREATED:20260407T143452Z
LAST-MODIFIED:20260407T194953Z
UID:10008137-1778004000-1778011200@cbrl.ca
SUMMARY:Textile Tuesdays
DESCRIPTION:Join us Tuesdays in May! Bring your current project – knitting\, crochet\, hand weaving\, hand sewing\, cross-stitch\, embroidery or any textile art-and enjoy crafting alongside fellow creators. Coffee\, tea and great company provided! No registration is required.
URL:https://cbrl.ca/event/textile-tuesdays/2026-05-05/
LOCATION:Louisbourg Library\, 10 Upper Warren St\, Louisbourg\, Nova Scotia\, B1C 1M6\, Canada
CATEGORIES:Adults & Seniors
ATTACH;FMTTYPE=image/png:https://cbrl.ca/wp-content/uploads/2026/04/textile.png
ORGANIZER;CN="Louisbourg Library":MAILTO:louisbourg@cbrl.ca
END:VEVENT
BEGIN:VEVENT
DTSTART;TZID=America/Halifax:20260506T103000
DTEND;TZID=America/Halifax:20260506T120000
DTSTAMP:20260423T184143
CREATED:20260330T174830Z
LAST-MODIFIED:20260330T174830Z
UID:10008053-1778063400-1778068800@cbrl.ca
SUMMARY:Coffee & Muffin Social
DESCRIPTION:Come join us for coffee and muffins. Enjoy new friendships. \nEveryone welcome. \n(Wednesday April 15\, 22\, 29 and May 6 from 10:30am-12noon) \n  \n 
URL:https://cbrl.ca/event/coffee-muffin-social/2026-05-06/
LOCATION:Sydney Mines Library\, 1 Fraser Ave\, Sydney Mines\, Nova Scotia\, B1V 0A9\, Canada
CATEGORIES:Adults & Seniors,Babies, Toddler & Preschool (0-5),Children (5-12),Teens
ATTACH;FMTTYPE=image/png:https://cbrl.ca/wp-content/uploads/2026/02/coffee-and-muffins.png
END:VEVENT
BEGIN:VEVENT
DTSTART;TZID=America/Halifax:20260506T180000
DTEND;TZID=America/Halifax:20260506T190000
DTSTAMP:20260423T184143
CREATED:20260415T140109Z
LAST-MODIFIED:20260415T140109Z
UID:10008162-1778090400-1778094000@cbrl.ca
SUMMARY:Butterfly Magnets
DESCRIPTION:Join staff in making beautiful butterfly magnets. Registration required. \nThis craft evening is for adults/seniors. \nCall the Glace Bay Library to register 902-849-8657. \n  \n 
URL:https://cbrl.ca/event/butterfly-magnets/
LOCATION:Glace Bay Library\, 143 Commercial Street\, Glace Bay\, Nova Scotia\, B1A 3B9\, Canada
CATEGORIES:Adults & Seniors
ATTACH;FMTTYPE=image/png:https://cbrl.ca/wp-content/uploads/2026/04/butterflies.png
ORGANIZER;CN="Glace Bay Library":MAILTO:glacebay@cbrl.ca
END:VEVENT
BEGIN:VEVENT
DTSTART;TZID=America/Halifax:20260507T153000
DTEND;TZID=America/Halifax:20260507T163000
DTSTAMP:20260423T184143
CREATED:20260415T140555Z
LAST-MODIFIED:20260415T140555Z
UID:10008164-1778167800-1778171400@cbrl.ca
SUMMARY:Crafty Corner: Mother's Day craft
DESCRIPTION:Join us every Thursday in May at our crafty corner for a different spring time craft! \nMay 7: Mothers Day craft \nMay 14-Ladybug craft \nMay 21-Daffodil craft \nMay 28: Butterfly craft \nRegistration not required.
URL:https://cbrl.ca/event/crafty-corner-mothers-day-craft/
LOCATION:Glace Bay Library\, 143 Commercial Street\, Glace Bay\, Nova Scotia\, B1A 3B9\, Canada
CATEGORIES:Children (5-12)
ATTACH;FMTTYPE=image/png:https://cbrl.ca/wp-content/uploads/2025/09/crafts.png
ORGANIZER;CN="Glace Bay Library":MAILTO:glacebay@cbrl.ca
END:VEVENT
BEGIN:VEVENT
DTSTART;TZID=America/Halifax:20260508T103000
DTEND;TZID=America/Halifax:20260508T110000
DTSTAMP:20260423T184143
CREATED:20260109T184711Z
LAST-MODIFIED:20260109T185038Z
UID:10007259-1778236200-1778238000@cbrl.ca
SUMMARY:Story Time
DESCRIPTION:Join library staff for stories\, rhymes\, and songs. The story time activities are largely aimed at toddlers and preschoolers and their parents (or caregivers)\, but babies are also welcome and we have age-appropriate toys and books for all! \n\n\n\nNo registration for this fun activity. Drop-in. \n\n\n\nIf you have any questions\, email louisbourg@cbrl.ca.
URL:https://cbrl.ca/event/story-time-3/2026-05-08/
LOCATION:Louisbourg Library\, 10 Upper Warren St\, Louisbourg\, Nova Scotia\, B1C 1M6\, Canada
CATEGORIES:Babies, Toddler & Preschool (0-5)
ATTACH;FMTTYPE=image/png:https://cbrl.ca/wp-content/uploads/2024/01/Story-Time.png
ORGANIZER;CN="Louisbourg Library":MAILTO:louisbourg@cbrl.ca
END:VEVENT
BEGIN:VEVENT
DTSTART;TZID=America/Halifax:20260508T133000
DTEND;TZID=America/Halifax:20260508T153000
DTSTAMP:20260423T184143
CREATED:20260109T184035Z
LAST-MODIFIED:20260109T184035Z
UID:10007237-1778247000-1778254200@cbrl.ca
SUMMARY:Knitting/ Crafters Club
DESCRIPTION:Join other knitters and crafters on Friday afternoons for a time to chat and work on your knitting projects.
URL:https://cbrl.ca/event/knitting-crafters-club/2026-05-08/
LOCATION:Glace Bay Library\, 143 Commercial Street\, Glace Bay\, Nova Scotia\, B1A 3B9\, Canada
CATEGORIES:Adults & Seniors
ATTACH;FMTTYPE=image/png:https://cbrl.ca/wp-content/uploads/2024/08/GB-Knitting.png
ORGANIZER;CN="Glace Bay Library":MAILTO:glacebay@cbrl.ca
END:VEVENT
BEGIN:VEVENT
DTSTART;TZID=America/Halifax:20260509T100000
DTEND;TZID=America/Halifax:20260509T110000
DTSTAMP:20260423T184143
CREATED:20260415T125501Z
LAST-MODIFIED:20260415T125501Z
UID:10008159-1778320800-1778324400@cbrl.ca
SUMMARY:Super Saturday: Mother's Day Card
DESCRIPTION:Join us at the Glace Bay Library to make a beautiful mothers day card craft. All materials are provided and no registration is required. \n 
URL:https://cbrl.ca/event/super-saturday-mothers-day-card/
LOCATION:Glace Bay Library\, 143 Commercial Street\, Glace Bay\, Nova Scotia\, B1A 3B9\, Canada
CATEGORIES:Children (5-12)
ATTACH;FMTTYPE=image/png:https://cbrl.ca/wp-content/uploads/2026/04/Pink-Red-and-Blue-Playful-Motivation-Instagram-Post.png
ORGANIZER;CN="Glace Bay Library":MAILTO:glacebay@cbrl.ca
END:VEVENT
BEGIN:VEVENT
DTSTART;TZID=America/Halifax:20260509T140000
DTEND;TZID=America/Halifax:20260509T160000
DTSTAMP:20260423T184143
CREATED:20260108T175144Z
LAST-MODIFIED:20260108T175144Z
UID:10007208-1778335200-1778342400@cbrl.ca
SUMMARY:JR D&D
DESCRIPTION:Children (ages 5-12) are welcome to the library for an afternoon of D&D.
URL:https://cbrl.ca/event/jr-dd/2026-05-09/
LOCATION:Glace Bay Library\, 143 Commercial Street\, Glace Bay\, Nova Scotia\, B1A 3B9\, Canada
CATEGORIES:Children (5-12)
ATTACH;FMTTYPE=image/png:https://cbrl.ca/wp-content/uploads/2024/08/GB-Jr-DD.png
ORGANIZER;CN="Glace Bay Library":MAILTO:glacebay@cbrl.ca
END:VEVENT
BEGIN:VEVENT
DTSTART;TZID=America/Halifax:20260509T143000
DTEND;TZID=America/Halifax:20260509T163000
DTSTAMP:20260423T184143
CREATED:20260407T144854Z
LAST-MODIFIED:20260407T144854Z
UID:10008142-1778337000-1778344200@cbrl.ca
SUMMARY:Mother’s Day Bracelets
DESCRIPTION:Design and craft custom paper beads to create a one-of-a-kind bracelet for Mom! Light refreshments will be provided. \nThis is a registered program. Please email the Branch at: louisbourg@cbrl.ca or phone at: 902-733-3608 to reserve your spot! \n 
URL:https://cbrl.ca/event/mothers-day-bracelets/
LOCATION:Louisbourg Library\, 10 Upper Warren St\, Louisbourg\, Nova Scotia\, B1C 1M6\, Canada
CATEGORIES:Children (5-12)
ATTACH;FMTTYPE=image/png:https://cbrl.ca/wp-content/uploads/2026/04/mothersdaybracelet.png
ORGANIZER;CN="Louisbourg Library":MAILTO:louisbourg@cbrl.ca
END:VEVENT
BEGIN:VEVENT
DTSTART;TZID=America/Halifax:20260511T153000
DTEND;TZID=America/Halifax:20260511T193000
DTSTAMP:20260423T184143
CREATED:20250813T163816Z
LAST-MODIFIED:20260121T203157Z
UID:10006157-1778513400-1778527800@cbrl.ca
SUMMARY:Dungeons & Dragons
DESCRIPTION:Join our Dungeons and Dragons group (for teens and adults).
URL:https://cbrl.ca/event/dungeons-dragons-3/2026-05-11/
LOCATION:Glace Bay Library\, 143 Commercial Street\, Glace Bay\, Nova Scotia\, B1A 3B9\, Canada
CATEGORIES:Adults & Seniors,Teens
ATTACH;FMTTYPE=image/png:https://cbrl.ca/wp-content/uploads/2025/05/D-and-D-IMAGE.png
ORGANIZER;CN="Glace Bay Library":MAILTO:glacebay@cbrl.ca
END:VEVENT
BEGIN:VEVENT
DTSTART;TZID=America/Halifax:20260512T140000
DTEND;TZID=America/Halifax:20260512T160000
DTSTAMP:20260423T184143
CREATED:20260415T142448Z
LAST-MODIFIED:20260415T142448Z
UID:10008169-1778594400-1778601600@cbrl.ca
SUMMARY:Nebulas Painting with Art Dragons
DESCRIPTION:Come to the Glace Bay Library and learn to paint a nebulas with the Art Dragons! This is a registered program in partnership with the Art Dragons and spots are limited so please phone the Glace Bay Library at: 902-849-8657 to reserve your spot. \n 
URL:https://cbrl.ca/event/nebulas-painting-with-art-dragons/
LOCATION:Glace Bay Library\, 143 Commercial Street\, Glace Bay\, Nova Scotia\, B1A 3B9\, Canada
CATEGORIES:Adults & Seniors
ATTACH;FMTTYPE=image/png:https://cbrl.ca/wp-content/uploads/2026/04/nebulasart.png
ORGANIZER;CN="Glace Bay Library":MAILTO:glacebay@cbrl.ca
END:VEVENT
BEGIN:VEVENT
DTSTART;TZID=America/Halifax:20260512T180000
DTEND;TZID=America/Halifax:20260512T200000
DTSTAMP:20260423T184143
CREATED:20260407T143452Z
LAST-MODIFIED:20260407T194953Z
UID:10008138-1778608800-1778616000@cbrl.ca
SUMMARY:Textile Tuesdays
DESCRIPTION:Join us Tuesdays in May! Bring your current project – knitting\, crochet\, hand weaving\, hand sewing\, cross-stitch\, embroidery or any textile art-and enjoy crafting alongside fellow creators. Coffee\, tea and great company provided! No registration is required.
URL:https://cbrl.ca/event/textile-tuesdays/2026-05-12/
LOCATION:Louisbourg Library\, 10 Upper Warren St\, Louisbourg\, Nova Scotia\, B1C 1M6\, Canada
CATEGORIES:Adults & Seniors
ATTACH;FMTTYPE=image/png:https://cbrl.ca/wp-content/uploads/2026/04/textile.png
ORGANIZER;CN="Louisbourg Library":MAILTO:louisbourg@cbrl.ca
END:VEVENT
BEGIN:VEVENT
DTSTART;TZID=America/Halifax:20260513T103000
DTEND;TZID=America/Halifax:20260513T120000
DTSTAMP:20260423T184143
CREATED:20260330T174830Z
LAST-MODIFIED:20260330T174830Z
UID:10008054-1778668200-1778673600@cbrl.ca
SUMMARY:Coffee & Muffin Social
DESCRIPTION:Come join us for coffee and muffins. Enjoy new friendships. \nEveryone welcome. \n(Wednesday April 15\, 22\, 29 and May 6 from 10:30am-12noon) \n  \n 
URL:https://cbrl.ca/event/coffee-muffin-social/2026-05-13/
LOCATION:Sydney Mines Library\, 1 Fraser Ave\, Sydney Mines\, Nova Scotia\, B1V 0A9\, Canada
CATEGORIES:Adults & Seniors,Babies, Toddler & Preschool (0-5),Children (5-12),Teens
ATTACH;FMTTYPE=image/png:https://cbrl.ca/wp-content/uploads/2026/02/coffee-and-muffins.png
END:VEVENT
BEGIN:VEVENT
DTSTART;TZID=America/Halifax:20260513T153000
DTEND;TZID=America/Halifax:20260513T163000
DTSTAMP:20260423T184143
CREATED:20260423T145309Z
LAST-MODIFIED:20260423T145309Z
UID:10008186-1778686200-1778689800@cbrl.ca
SUMMARY:The Bracelet Bar: Jewelry Craft Day
DESCRIPTION:Join NSCC Social Service students at the Glace Bay Library for a fun\, easy\, bracelet making event. Snacks and drinks are provided. This event is for ages 5-9 and spots are limited so registration is required. Please phone the Glace Bay Library at: 902-849-8657 to reserve your spot!
URL:https://cbrl.ca/event/the-bracelet-bar-jewelry-craft-day/
LOCATION:Glace Bay Library\, 143 Commercial Street\, Glace Bay\, Nova Scotia\, B1A 3B9\, Canada
CATEGORIES:Children (5-12)
ATTACH;FMTTYPE=image/png:https://cbrl.ca/wp-content/uploads/2026/04/bracelet-2.png
ORGANIZER;CN="Glace Bay Library":MAILTO:glacebay@cbrl.ca
END:VEVENT
BEGIN:VEVENT
DTSTART;TZID=America/Halifax:20260513T180000
DTEND;TZID=America/Halifax:20260513T190000
DTSTAMP:20260423T184143
CREATED:20260415T140134Z
LAST-MODIFIED:20260415T140134Z
UID:10008163-1778695200-1778698800@cbrl.ca
SUMMARY:Tissue Paper Flowers
DESCRIPTION:Come in to the Glace Bay Library to make some pretty tissue paper flowers! All materials are provided and no registration is required. \n 
URL:https://cbrl.ca/event/tissue-paper-flowers/
LOCATION:Glace Bay Library\, 143 Commercial Street\, Glace Bay\, Nova Scotia\, B1A 3B9\, Canada
CATEGORIES:Children (5-12)
ATTACH;FMTTYPE=image/png:https://cbrl.ca/wp-content/uploads/2026/04/tissuepaperflowers.png
ORGANIZER;CN="Glace Bay Library":MAILTO:glacebay@cbrl.ca
END:VEVENT
BEGIN:VEVENT
DTSTART;TZID=America/Halifax:20260514T153000
DTEND;TZID=America/Halifax:20260514T163000
DTSTAMP:20260423T184143
CREATED:20260415T140742Z
LAST-MODIFIED:20260415T140742Z
UID:10008165-1778772600-1778776200@cbrl.ca
SUMMARY:Crafty Corner: Ladybug craft
DESCRIPTION:Join us every Thursday in May at our crafty corner for a different spring time craft! \nMay 7: Mothers Day craft \nMay 14-Ladybug craft \nMay 21-Daffodil craft \nMay 28: Butterfly craft \nRegistration not required.
URL:https://cbrl.ca/event/crafty-corner-ladybug-craft/
LOCATION:Glace Bay Library\, 143 Commercial Street\, Glace Bay\, Nova Scotia\, B1A 3B9\, Canada
CATEGORIES:Children (5-12)
ATTACH;FMTTYPE=image/png:https://cbrl.ca/wp-content/uploads/2025/09/crafts.png
ORGANIZER;CN="Glace Bay Library":MAILTO:glacebay@cbrl.ca
END:VEVENT
BEGIN:VEVENT
DTSTART;TZID=America/Halifax:20260515T103000
DTEND;TZID=America/Halifax:20260515T110000
DTSTAMP:20260423T184143
CREATED:20260109T184711Z
LAST-MODIFIED:20260109T185038Z
UID:10007260-1778841000-1778842800@cbrl.ca
SUMMARY:Story Time
DESCRIPTION:Join library staff for stories\, rhymes\, and songs. The story time activities are largely aimed at toddlers and preschoolers and their parents (or caregivers)\, but babies are also welcome and we have age-appropriate toys and books for all! \n\n\n\nNo registration for this fun activity. Drop-in. \n\n\n\nIf you have any questions\, email louisbourg@cbrl.ca.
URL:https://cbrl.ca/event/story-time-3/2026-05-15/
LOCATION:Louisbourg Library\, 10 Upper Warren St\, Louisbourg\, Nova Scotia\, B1C 1M6\, Canada
CATEGORIES:Babies, Toddler & Preschool (0-5)
ATTACH;FMTTYPE=image/png:https://cbrl.ca/wp-content/uploads/2024/01/Story-Time.png
ORGANIZER;CN="Louisbourg Library":MAILTO:louisbourg@cbrl.ca
END:VEVENT
END:VCALENDAR