BEGIN:VCALENDAR
VERSION:2.0
PRODID:-//Cape Breton Regional Library - ECPv6.15.20//NONSGML v1.0//EN
CALSCALE:GREGORIAN
METHOD:PUBLISH
X-ORIGINAL-URL:https://cbrl.ca
X-WR-CALDESC:Events for Cape Breton Regional Library
REFRESH-INTERVAL;VALUE=DURATION:PT1H
X-Robots-Tag:noindex
X-PUBLISHED-TTL:PT1H
BEGIN:VTIMEZONE
TZID:America/Halifax
BEGIN:DAYLIGHT
TZOFFSETFROM:-0400
TZOFFSETTO:-0300
TZNAME:ADT
DTSTART:20250309T060000
END:DAYLIGHT
BEGIN:STANDARD
TZOFFSETFROM:-0300
TZOFFSETTO:-0400
TZNAME:AST
DTSTART:20251102T050000
END:STANDARD
BEGIN:DAYLIGHT
TZOFFSETFROM:-0400
TZOFFSETTO:-0300
TZNAME:ADT
DTSTART:20260308T060000
END:DAYLIGHT
BEGIN:STANDARD
TZOFFSETFROM:-0300
TZOFFSETTO:-0400
TZNAME:AST
DTSTART:20261101T050000
END:STANDARD
BEGIN:DAYLIGHT
TZOFFSETFROM:-0400
TZOFFSETTO:-0300
TZNAME:ADT
DTSTART:20270314T060000
END:DAYLIGHT
BEGIN:STANDARD
TZOFFSETFROM:-0300
TZOFFSETTO:-0400
TZNAME:AST
DTSTART:20271107T050000
END:STANDARD
END:VTIMEZONE
BEGIN:VEVENT
DTSTART;TZID=America/Halifax:20260424T103000
DTEND;TZID=America/Halifax:20260424T110000
DTSTAMP:20260423T173017
CREATED:20260109T184711Z
LAST-MODIFIED:20260109T185038Z
UID:10007257-1777026600-1777028400@cbrl.ca
SUMMARY:Story Time
DESCRIPTION:Join library staff for stories\, rhymes\, and songs. The story time activities are largely aimed at toddlers and preschoolers and their parents (or caregivers)\, but babies are also welcome and we have age-appropriate toys and books for all! \n\n\n\nNo registration for this fun activity. Drop-in. \n\n\n\nIf you have any questions\, email louisbourg@cbrl.ca.
URL:https://cbrl.ca/event/story-time-3/2026-04-24/
LOCATION:Louisbourg Library\, 10 Upper Warren St\, Louisbourg\, Nova Scotia\, B1C 1M6\, Canada
CATEGORIES:Babies, Toddler & Preschool (0-5)
ATTACH;FMTTYPE=image/png:https://cbrl.ca/wp-content/uploads/2024/01/Story-Time.png
ORGANIZER;CN="Louisbourg Library":MAILTO:louisbourg@cbrl.ca
END:VEVENT
BEGIN:VEVENT
DTSTART;TZID=America/Halifax:20260425T100000
DTEND;TZID=America/Halifax:20260425T120000
DTSTAMP:20260423T173017
CREATED:20260323T130859Z
LAST-MODIFIED:20260323T130859Z
UID:10008025-1777111200-1777118400@cbrl.ca
SUMMARY:Super Saturday: Foam Craft Day
DESCRIPTION:Will you make your very own book mark\, a cute flower or an animal? We can’t wait to see what you can come up with using our foam crafting material.\nThis program is open to all ages and no registration is required.
URL:https://cbrl.ca/event/super-saturday-foam-craft-day/
LOCATION:New Waterford Library\, 3390 Plummer Ave\, New Waterford\, Nova Scotia\, B1H 4K4\, Canada
CATEGORIES:Children (5-12)
ATTACH;FMTTYPE=image/png:https://cbrl.ca/wp-content/uploads/2026/03/craftfoam-1.png
ORGANIZER;CN="New Waterford Library":MAILTO:newwaterford@cbrl.ca
END:VEVENT
BEGIN:VEVENT
DTSTART;TZID=America/Halifax:20260425T143000
DTEND;TZID=America/Halifax:20260425T163000
DTSTAMP:20260423T173017
CREATED:20260407T142351Z
LAST-MODIFIED:20260407T142451Z
UID:10008136-1777127400-1777134600@cbrl.ca
SUMMARY:Seniors Saturday Scrabble
DESCRIPTION:Enjoy an afternoon of Scrabble. Bring a friend or make a new one! Tea and light refreshments will be provided. \nThis is a registered program. please email the Branch at: louisbourg@cbrl.ca or phone at: 902-733-3608 to reserve your spot! \n 
URL:https://cbrl.ca/event/seniors-saturday-scrabble/
LOCATION:Louisbourg Library\, 10 Upper Warren St\, Louisbourg\, Nova Scotia\, B1C 1M6\, Canada
CATEGORIES:Adults & Seniors
ORGANIZER;CN="Louisbourg Library":MAILTO:louisbourg@cbrl.ca
END:VEVENT
BEGIN:VEVENT
DTSTART;TZID=America/Halifax:20260428T180000
DTEND;TZID=America/Halifax:20260428T193000
DTSTAMP:20260423T173017
CREATED:20260102T183519Z
LAST-MODIFIED:20260102T183519Z
UID:10007037-1777399200-1777404600@cbrl.ca
SUMMARY:Knitting Group
DESCRIPTION:Bring your knitting or crocheting and craft with others. \nOpen to all adults. No registration required.
URL:https://cbrl.ca/event/knitting-group/2026-04-28/
LOCATION:New Waterford Library\, 3390 Plummer Ave\, New Waterford\, Nova Scotia\, B1H 4K4\, Canada
CATEGORIES:Adults & Seniors
ATTACH;FMTTYPE=image/png:https://cbrl.ca/wp-content/uploads/2024/08/GB-Knitting.png
ORGANIZER;CN="New Waterford Library":MAILTO:newwaterford@cbrl.ca
END:VEVENT
BEGIN:VEVENT
DTSTART;TZID=America/Halifax:20260429T103000
DTEND;TZID=America/Halifax:20260429T113000
DTSTAMP:20260423T173017
CREATED:20260102T183923Z
LAST-MODIFIED:20260102T183923Z
UID:10007058-1777458600-1777462200@cbrl.ca
SUMMARY:Tea & Trivia
DESCRIPTION:Tea and Trivia ~ Wednesdays at 10:30am \nOpen to adults. Registration is required. \nPhone 902-862-2892 for more information\, or to register.
URL:https://cbrl.ca/event/tea-trivia/2026-04-29/
LOCATION:New Waterford Library\, 3390 Plummer Ave\, New Waterford\, Nova Scotia\, B1H 4K4\, Canada
CATEGORIES:Adults & Seniors
ATTACH;FMTTYPE=image/png:https://cbrl.ca/wp-content/uploads/2025/04/tea-and-trivia-2.png
ORGANIZER;CN="New Waterford Library":MAILTO:newwaterford@cbrl.ca
END:VEVENT
BEGIN:VEVENT
DTSTART;TZID=America/Halifax:20260429T103000
DTEND;TZID=America/Halifax:20260429T120000
DTSTAMP:20260423T173017
CREATED:20260330T174830Z
LAST-MODIFIED:20260330T174830Z
UID:10008052-1777458600-1777464000@cbrl.ca
SUMMARY:Coffee & Muffin Social
DESCRIPTION:Come join us for coffee and muffins. Enjoy new friendships. \nEveryone welcome. \n(Wednesday April 15\, 22\, 29 and May 6 from 10:30am-12noon) \n  \n 
URL:https://cbrl.ca/event/coffee-muffin-social/2026-04-29/
LOCATION:Sydney Mines Library\, 1 Fraser Ave\, Sydney Mines\, Nova Scotia\, B1V 0A9\, Canada
CATEGORIES:Adults & Seniors,Babies, Toddler & Preschool (0-5),Children (5-12),Teens
ATTACH;FMTTYPE=image/png:https://cbrl.ca/wp-content/uploads/2026/02/coffee-and-muffins.png
END:VEVENT
BEGIN:VEVENT
DTSTART;TZID=America/Halifax:20260430T110000
DTEND;TZID=America/Halifax:20260430T130000
DTSTAMP:20260423T173017
CREATED:20260420T134522Z
LAST-MODIFIED:20260420T134522Z
UID:10008177-1777546800-1777554000@cbrl.ca
SUMMARY:Senior Safety Talk: Brain Health\, Music and Memory
DESCRIPTION:Join Shaelene Barrett with Alzheimer Society Nova Scotia\, along with CBRM Senior Safety Navigator Barry Gordon and Constable Gary Fraser for an information session on keeping your brain and memory active.\n\nPlease phone the library to register 902-862-2892 – space is limited.
URL:https://cbrl.ca/event/senior-safety-talk-brain-health-music-and-memory/
LOCATION:New Waterford Library\, 3390 Plummer Ave\, New Waterford\, Nova Scotia\, B1H 4K4\, Canada
CATEGORIES:Adults & Seniors
ATTACH;FMTTYPE=image/png:https://cbrl.ca/wp-content/uploads/2026/04/music-brain-health.png
ORGANIZER;CN="New Waterford Library":MAILTO:newwaterford@cbrl.ca
END:VEVENT
BEGIN:VEVENT
DTSTART;TZID=America/Halifax:20260501T103000
DTEND;TZID=America/Halifax:20260501T110000
DTSTAMP:20260423T173017
CREATED:20260109T184711Z
LAST-MODIFIED:20260109T185038Z
UID:10007258-1777631400-1777633200@cbrl.ca
SUMMARY:Story Time
DESCRIPTION:Join library staff for stories\, rhymes\, and songs. The story time activities are largely aimed at toddlers and preschoolers and their parents (or caregivers)\, but babies are also welcome and we have age-appropriate toys and books for all! \n\n\n\nNo registration for this fun activity. Drop-in. \n\n\n\nIf you have any questions\, email louisbourg@cbrl.ca.
URL:https://cbrl.ca/event/story-time-3/2026-05-01/
LOCATION:Louisbourg Library\, 10 Upper Warren St\, Louisbourg\, Nova Scotia\, B1C 1M6\, Canada
CATEGORIES:Babies, Toddler & Preschool (0-5)
ATTACH;FMTTYPE=image/png:https://cbrl.ca/wp-content/uploads/2024/01/Story-Time.png
ORGANIZER;CN="Louisbourg Library":MAILTO:louisbourg@cbrl.ca
END:VEVENT
BEGIN:VEVENT
DTSTART;TZID=America/Halifax:20260501T110000
DTEND;TZID=America/Halifax:20260501T130000
DTSTAMP:20260423T173017
CREATED:20260420T140347Z
LAST-MODIFIED:20260420T140428Z
UID:10008179-1777633200-1777640400@cbrl.ca
SUMMARY:Insidewalk Cafe
DESCRIPTION:The library is hosting an Insidewalk Cafe.\n\nEveryone is welcome!
URL:https://cbrl.ca/event/insidewalk-cafe/
LOCATION:New Waterford Library\, 3390 Plummer Ave\, New Waterford\, Nova Scotia\, B1H 4K4\, Canada
CATEGORIES:Adults & Seniors,Babies, Toddler & Preschool (0-5),Children (5-12),Teens
ATTACH;FMTTYPE=image/png:https://cbrl.ca/wp-content/uploads/2026/04/Insidewalk-cafe.png
ORGANIZER;CN="New Waterford Library":MAILTO:newwaterford@cbrl.ca
END:VEVENT
BEGIN:VEVENT
DTSTART;TZID=America/Halifax:20260502T143000
DTEND;TZID=America/Halifax:20260502T160000
DTSTAMP:20260423T173017
CREATED:20260407T144343Z
LAST-MODIFIED:20260407T144343Z
UID:10008141-1777732200-1777737600@cbrl.ca
SUMMARY:Plant a Seed
DESCRIPTION:Children will enjoy planting a pot with pea and nasturtium seeds which they can take home to nurture\, followed by stories and snacks. \nThis program is aimed towards kids grade primary to six. Registration is required. Please email the Branch at: louisbourg@cbrl.ca or phone at: 902-733-3608 to reserve your spot! \n  \n  \n 
URL:https://cbrl.ca/event/plant-a-seed/
LOCATION:Louisbourg Library\, 10 Upper Warren St\, Louisbourg\, Nova Scotia\, B1C 1M6\, Canada
CATEGORIES:Children (5-12)
ATTACH;FMTTYPE=image/png:https://cbrl.ca/wp-content/uploads/2026/04/plant.png
ORGANIZER;CN="Louisbourg Library":MAILTO:louisbourg@cbrl.ca
END:VEVENT
BEGIN:VEVENT
DTSTART;TZID=America/Halifax:20260505T180000
DTEND;TZID=America/Halifax:20260505T193000
DTSTAMP:20260423T173017
CREATED:20260102T183519Z
LAST-MODIFIED:20260102T183519Z
UID:10007038-1778004000-1778009400@cbrl.ca
SUMMARY:Knitting Group
DESCRIPTION:Bring your knitting or crocheting and craft with others. \nOpen to all adults. No registration required.
URL:https://cbrl.ca/event/knitting-group/2026-05-05/
LOCATION:New Waterford Library\, 3390 Plummer Ave\, New Waterford\, Nova Scotia\, B1H 4K4\, Canada
CATEGORIES:Adults & Seniors
ATTACH;FMTTYPE=image/png:https://cbrl.ca/wp-content/uploads/2024/08/GB-Knitting.png
ORGANIZER;CN="New Waterford Library":MAILTO:newwaterford@cbrl.ca
END:VEVENT
BEGIN:VEVENT
DTSTART;TZID=America/Halifax:20260505T180000
DTEND;TZID=America/Halifax:20260505T200000
DTSTAMP:20260423T173017
CREATED:20260407T143452Z
LAST-MODIFIED:20260407T194953Z
UID:10008137-1778004000-1778011200@cbrl.ca
SUMMARY:Textile Tuesdays
DESCRIPTION:Join us Tuesdays in May! Bring your current project – knitting\, crochet\, hand weaving\, hand sewing\, cross-stitch\, embroidery or any textile art-and enjoy crafting alongside fellow creators. Coffee\, tea and great company provided! No registration is required.
URL:https://cbrl.ca/event/textile-tuesdays/2026-05-05/
LOCATION:Louisbourg Library\, 10 Upper Warren St\, Louisbourg\, Nova Scotia\, B1C 1M6\, Canada
CATEGORIES:Adults & Seniors
ATTACH;FMTTYPE=image/png:https://cbrl.ca/wp-content/uploads/2026/04/textile.png
ORGANIZER;CN="Louisbourg Library":MAILTO:louisbourg@cbrl.ca
END:VEVENT
BEGIN:VEVENT
DTSTART;TZID=America/Halifax:20260506T103000
DTEND;TZID=America/Halifax:20260506T113000
DTSTAMP:20260423T173017
CREATED:20260102T183923Z
LAST-MODIFIED:20260102T183923Z
UID:10007059-1778063400-1778067000@cbrl.ca
SUMMARY:Tea & Trivia
DESCRIPTION:Tea and Trivia ~ Wednesdays at 10:30am \nOpen to adults. Registration is required. \nPhone 902-862-2892 for more information\, or to register.
URL:https://cbrl.ca/event/tea-trivia/2026-05-06/
LOCATION:New Waterford Library\, 3390 Plummer Ave\, New Waterford\, Nova Scotia\, B1H 4K4\, Canada
CATEGORIES:Adults & Seniors
ATTACH;FMTTYPE=image/png:https://cbrl.ca/wp-content/uploads/2025/04/tea-and-trivia-2.png
ORGANIZER;CN="New Waterford Library":MAILTO:newwaterford@cbrl.ca
END:VEVENT
BEGIN:VEVENT
DTSTART;TZID=America/Halifax:20260506T103000
DTEND;TZID=America/Halifax:20260506T120000
DTSTAMP:20260423T173017
CREATED:20260330T174830Z
LAST-MODIFIED:20260330T174830Z
UID:10008053-1778063400-1778068800@cbrl.ca
SUMMARY:Coffee & Muffin Social
DESCRIPTION:Come join us for coffee and muffins. Enjoy new friendships. \nEveryone welcome. \n(Wednesday April 15\, 22\, 29 and May 6 from 10:30am-12noon) \n  \n 
URL:https://cbrl.ca/event/coffee-muffin-social/2026-05-06/
LOCATION:Sydney Mines Library\, 1 Fraser Ave\, Sydney Mines\, Nova Scotia\, B1V 0A9\, Canada
CATEGORIES:Adults & Seniors,Babies, Toddler & Preschool (0-5),Children (5-12),Teens
ATTACH;FMTTYPE=image/png:https://cbrl.ca/wp-content/uploads/2026/02/coffee-and-muffins.png
END:VEVENT
BEGIN:VEVENT
DTSTART;TZID=America/Halifax:20260508T103000
DTEND;TZID=America/Halifax:20260508T110000
DTSTAMP:20260423T173017
CREATED:20260109T184711Z
LAST-MODIFIED:20260109T185038Z
UID:10007259-1778236200-1778238000@cbrl.ca
SUMMARY:Story Time
DESCRIPTION:Join library staff for stories\, rhymes\, and songs. The story time activities are largely aimed at toddlers and preschoolers and their parents (or caregivers)\, but babies are also welcome and we have age-appropriate toys and books for all! \n\n\n\nNo registration for this fun activity. Drop-in. \n\n\n\nIf you have any questions\, email louisbourg@cbrl.ca.
URL:https://cbrl.ca/event/story-time-3/2026-05-08/
LOCATION:Louisbourg Library\, 10 Upper Warren St\, Louisbourg\, Nova Scotia\, B1C 1M6\, Canada
CATEGORIES:Babies, Toddler & Preschool (0-5)
ATTACH;FMTTYPE=image/png:https://cbrl.ca/wp-content/uploads/2024/01/Story-Time.png
ORGANIZER;CN="Louisbourg Library":MAILTO:louisbourg@cbrl.ca
END:VEVENT
BEGIN:VEVENT
DTSTART;TZID=America/Halifax:20260509T143000
DTEND;TZID=America/Halifax:20260509T163000
DTSTAMP:20260423T173017
CREATED:20260407T144854Z
LAST-MODIFIED:20260407T144854Z
UID:10008142-1778337000-1778344200@cbrl.ca
SUMMARY:Mother’s Day Bracelets
DESCRIPTION:Design and craft custom paper beads to create a one-of-a-kind bracelet for Mom! Light refreshments will be provided. \nThis is a registered program. Please email the Branch at: louisbourg@cbrl.ca or phone at: 902-733-3608 to reserve your spot! \n 
URL:https://cbrl.ca/event/mothers-day-bracelets/
LOCATION:Louisbourg Library\, 10 Upper Warren St\, Louisbourg\, Nova Scotia\, B1C 1M6\, Canada
CATEGORIES:Children (5-12)
ATTACH;FMTTYPE=image/png:https://cbrl.ca/wp-content/uploads/2026/04/mothersdaybracelet.png
ORGANIZER;CN="Louisbourg Library":MAILTO:louisbourg@cbrl.ca
END:VEVENT
BEGIN:VEVENT
DTSTART;TZID=America/Halifax:20260511T130000
DTEND;TZID=America/Halifax:20260511T150000
DTSTAMP:20260423T173017
CREATED:20260327T134831Z
LAST-MODIFIED:20260327T135158Z
UID:10008036-1778504400-1778511600@cbrl.ca
SUMMARY:The Rake Stop: Pit Talk Social- Reserve Mines
DESCRIPTION:New Waterford Library staff are taking this popular social for miners on the road! \nNext Location: Reserve Mines Fire Hall \nGet together and socialize\, meet new and old friends\, and reminisce about shared experiences while enjoying tea\, coffee\, and light refreshments. \nRegistration is not required. To find out more information call the New Waterford Library branch 902-862-2892.
URL:https://cbrl.ca/event/the-rake-stop-pit-talk-social-reserve-mines/
LOCATION:Reserve Mines Library\, 2249 Sydney Rd\, Unit 3\, Reserve Mines\, Nova Scotia\, B1E 1J9\, Canada
CATEGORIES:Adults & Seniors
ATTACH;FMTTYPE=image/png:https://cbrl.ca/wp-content/uploads/2026/01/The-Rake-Stop.png
ORGANIZER;CN="New Waterford Library":MAILTO:newwaterford@cbrl.ca
END:VEVENT
BEGIN:VEVENT
DTSTART;TZID=America/Halifax:20260512T180000
DTEND;TZID=America/Halifax:20260512T193000
DTSTAMP:20260423T173017
CREATED:20260102T183519Z
LAST-MODIFIED:20260102T183519Z
UID:10007039-1778608800-1778614200@cbrl.ca
SUMMARY:Knitting Group
DESCRIPTION:Bring your knitting or crocheting and craft with others. \nOpen to all adults. No registration required.
URL:https://cbrl.ca/event/knitting-group/2026-05-12/
LOCATION:New Waterford Library\, 3390 Plummer Ave\, New Waterford\, Nova Scotia\, B1H 4K4\, Canada
CATEGORIES:Adults & Seniors
ATTACH;FMTTYPE=image/png:https://cbrl.ca/wp-content/uploads/2024/08/GB-Knitting.png
ORGANIZER;CN="New Waterford Library":MAILTO:newwaterford@cbrl.ca
END:VEVENT
BEGIN:VEVENT
DTSTART;TZID=America/Halifax:20260512T180000
DTEND;TZID=America/Halifax:20260512T200000
DTSTAMP:20260423T173017
CREATED:20260407T143452Z
LAST-MODIFIED:20260407T194953Z
UID:10008138-1778608800-1778616000@cbrl.ca
SUMMARY:Textile Tuesdays
DESCRIPTION:Join us Tuesdays in May! Bring your current project – knitting\, crochet\, hand weaving\, hand sewing\, cross-stitch\, embroidery or any textile art-and enjoy crafting alongside fellow creators. Coffee\, tea and great company provided! No registration is required.
URL:https://cbrl.ca/event/textile-tuesdays/2026-05-12/
LOCATION:Louisbourg Library\, 10 Upper Warren St\, Louisbourg\, Nova Scotia\, B1C 1M6\, Canada
CATEGORIES:Adults & Seniors
ATTACH;FMTTYPE=image/png:https://cbrl.ca/wp-content/uploads/2026/04/textile.png
ORGANIZER;CN="Louisbourg Library":MAILTO:louisbourg@cbrl.ca
END:VEVENT
BEGIN:VEVENT
DTSTART;TZID=America/Halifax:20260513T103000
DTEND;TZID=America/Halifax:20260513T113000
DTSTAMP:20260423T173017
CREATED:20260102T183923Z
LAST-MODIFIED:20260102T183923Z
UID:10007060-1778668200-1778671800@cbrl.ca
SUMMARY:Tea & Trivia
DESCRIPTION:Tea and Trivia ~ Wednesdays at 10:30am \nOpen to adults. Registration is required. \nPhone 902-862-2892 for more information\, or to register.
URL:https://cbrl.ca/event/tea-trivia/2026-05-13/
LOCATION:New Waterford Library\, 3390 Plummer Ave\, New Waterford\, Nova Scotia\, B1H 4K4\, Canada
CATEGORIES:Adults & Seniors
ATTACH;FMTTYPE=image/png:https://cbrl.ca/wp-content/uploads/2025/04/tea-and-trivia-2.png
ORGANIZER;CN="New Waterford Library":MAILTO:newwaterford@cbrl.ca
END:VEVENT
BEGIN:VEVENT
DTSTART;TZID=America/Halifax:20260513T103000
DTEND;TZID=America/Halifax:20260513T120000
DTSTAMP:20260423T173017
CREATED:20260330T174830Z
LAST-MODIFIED:20260330T174830Z
UID:10008054-1778668200-1778673600@cbrl.ca
SUMMARY:Coffee & Muffin Social
DESCRIPTION:Come join us for coffee and muffins. Enjoy new friendships. \nEveryone welcome. \n(Wednesday April 15\, 22\, 29 and May 6 from 10:30am-12noon) \n  \n 
URL:https://cbrl.ca/event/coffee-muffin-social/2026-05-13/
LOCATION:Sydney Mines Library\, 1 Fraser Ave\, Sydney Mines\, Nova Scotia\, B1V 0A9\, Canada
CATEGORIES:Adults & Seniors,Babies, Toddler & Preschool (0-5),Children (5-12),Teens
ATTACH;FMTTYPE=image/png:https://cbrl.ca/wp-content/uploads/2026/02/coffee-and-muffins.png
END:VEVENT
BEGIN:VEVENT
DTSTART;TZID=America/Halifax:20260515T103000
DTEND;TZID=America/Halifax:20260515T110000
DTSTAMP:20260423T173017
CREATED:20260109T184711Z
LAST-MODIFIED:20260109T185038Z
UID:10007260-1778841000-1778842800@cbrl.ca
SUMMARY:Story Time
DESCRIPTION:Join library staff for stories\, rhymes\, and songs. The story time activities are largely aimed at toddlers and preschoolers and their parents (or caregivers)\, but babies are also welcome and we have age-appropriate toys and books for all! \n\n\n\nNo registration for this fun activity. Drop-in. \n\n\n\nIf you have any questions\, email louisbourg@cbrl.ca.
URL:https://cbrl.ca/event/story-time-3/2026-05-15/
LOCATION:Louisbourg Library\, 10 Upper Warren St\, Louisbourg\, Nova Scotia\, B1C 1M6\, Canada
CATEGORIES:Babies, Toddler & Preschool (0-5)
ATTACH;FMTTYPE=image/png:https://cbrl.ca/wp-content/uploads/2024/01/Story-Time.png
ORGANIZER;CN="Louisbourg Library":MAILTO:louisbourg@cbrl.ca
END:VEVENT
BEGIN:VEVENT
DTSTART;TZID=America/Halifax:20260519T180000
DTEND;TZID=America/Halifax:20260519T193000
DTSTAMP:20260423T173017
CREATED:20260102T183519Z
LAST-MODIFIED:20260102T183519Z
UID:10007040-1779213600-1779219000@cbrl.ca
SUMMARY:Knitting Group
DESCRIPTION:Bring your knitting or crocheting and craft with others. \nOpen to all adults. No registration required.
URL:https://cbrl.ca/event/knitting-group/2026-05-19/
LOCATION:New Waterford Library\, 3390 Plummer Ave\, New Waterford\, Nova Scotia\, B1H 4K4\, Canada
CATEGORIES:Adults & Seniors
ATTACH;FMTTYPE=image/png:https://cbrl.ca/wp-content/uploads/2024/08/GB-Knitting.png
ORGANIZER;CN="New Waterford Library":MAILTO:newwaterford@cbrl.ca
END:VEVENT
BEGIN:VEVENT
DTSTART;TZID=America/Halifax:20260519T180000
DTEND;TZID=America/Halifax:20260519T200000
DTSTAMP:20260423T173017
CREATED:20260407T143452Z
LAST-MODIFIED:20260407T194953Z
UID:10008139-1779213600-1779220800@cbrl.ca
SUMMARY:Textile Tuesdays
DESCRIPTION:Join us Tuesdays in May! Bring your current project – knitting\, crochet\, hand weaving\, hand sewing\, cross-stitch\, embroidery or any textile art-and enjoy crafting alongside fellow creators. Coffee\, tea and great company provided! No registration is required.
URL:https://cbrl.ca/event/textile-tuesdays/2026-05-19/
LOCATION:Louisbourg Library\, 10 Upper Warren St\, Louisbourg\, Nova Scotia\, B1C 1M6\, Canada
CATEGORIES:Adults & Seniors
ATTACH;FMTTYPE=image/png:https://cbrl.ca/wp-content/uploads/2026/04/textile.png
ORGANIZER;CN="Louisbourg Library":MAILTO:louisbourg@cbrl.ca
END:VEVENT
BEGIN:VEVENT
DTSTART;TZID=America/Halifax:20260520T103000
DTEND;TZID=America/Halifax:20260520T113000
DTSTAMP:20260423T173017
CREATED:20260102T183923Z
LAST-MODIFIED:20260102T183923Z
UID:10007061-1779273000-1779276600@cbrl.ca
SUMMARY:Tea & Trivia
DESCRIPTION:Tea and Trivia ~ Wednesdays at 10:30am \nOpen to adults. Registration is required. \nPhone 902-862-2892 for more information\, or to register.
URL:https://cbrl.ca/event/tea-trivia/2026-05-20/
LOCATION:New Waterford Library\, 3390 Plummer Ave\, New Waterford\, Nova Scotia\, B1H 4K4\, Canada
CATEGORIES:Adults & Seniors
ATTACH;FMTTYPE=image/png:https://cbrl.ca/wp-content/uploads/2025/04/tea-and-trivia-2.png
ORGANIZER;CN="New Waterford Library":MAILTO:newwaterford@cbrl.ca
END:VEVENT
BEGIN:VEVENT
DTSTART;TZID=America/Halifax:20260520T103000
DTEND;TZID=America/Halifax:20260520T120000
DTSTAMP:20260423T173017
CREATED:20260330T174830Z
LAST-MODIFIED:20260330T174830Z
UID:10008055-1779273000-1779278400@cbrl.ca
SUMMARY:Coffee & Muffin Social
DESCRIPTION:Come join us for coffee and muffins. Enjoy new friendships. \nEveryone welcome. \n(Wednesday April 15\, 22\, 29 and May 6 from 10:30am-12noon) \n  \n 
URL:https://cbrl.ca/event/coffee-muffin-social/2026-05-20/
LOCATION:Sydney Mines Library\, 1 Fraser Ave\, Sydney Mines\, Nova Scotia\, B1V 0A9\, Canada
CATEGORIES:Adults & Seniors,Babies, Toddler & Preschool (0-5),Children (5-12),Teens
ATTACH;FMTTYPE=image/png:https://cbrl.ca/wp-content/uploads/2026/02/coffee-and-muffins.png
END:VEVENT
BEGIN:VEVENT
DTSTART;TZID=America/Halifax:20260522T103000
DTEND;TZID=America/Halifax:20260522T110000
DTSTAMP:20260423T173017
CREATED:20260109T184711Z
LAST-MODIFIED:20260109T185038Z
UID:10007261-1779445800-1779447600@cbrl.ca
SUMMARY:Story Time
DESCRIPTION:Join library staff for stories\, rhymes\, and songs. The story time activities are largely aimed at toddlers and preschoolers and their parents (or caregivers)\, but babies are also welcome and we have age-appropriate toys and books for all! \n\n\n\nNo registration for this fun activity. Drop-in. \n\n\n\nIf you have any questions\, email louisbourg@cbrl.ca.
URL:https://cbrl.ca/event/story-time-3/2026-05-22/
LOCATION:Louisbourg Library\, 10 Upper Warren St\, Louisbourg\, Nova Scotia\, B1C 1M6\, Canada
CATEGORIES:Babies, Toddler & Preschool (0-5)
ATTACH;FMTTYPE=image/png:https://cbrl.ca/wp-content/uploads/2024/01/Story-Time.png
ORGANIZER;CN="Louisbourg Library":MAILTO:louisbourg@cbrl.ca
END:VEVENT
BEGIN:VEVENT
DTSTART;TZID=America/Halifax:20260526T180000
DTEND;TZID=America/Halifax:20260526T193000
DTSTAMP:20260423T173017
CREATED:20260102T183519Z
LAST-MODIFIED:20260102T183519Z
UID:10007041-1779818400-1779823800@cbrl.ca
SUMMARY:Knitting Group
DESCRIPTION:Bring your knitting or crocheting and craft with others. \nOpen to all adults. No registration required.
URL:https://cbrl.ca/event/knitting-group/2026-05-26/
LOCATION:New Waterford Library\, 3390 Plummer Ave\, New Waterford\, Nova Scotia\, B1H 4K4\, Canada
CATEGORIES:Adults & Seniors
ATTACH;FMTTYPE=image/png:https://cbrl.ca/wp-content/uploads/2024/08/GB-Knitting.png
ORGANIZER;CN="New Waterford Library":MAILTO:newwaterford@cbrl.ca
END:VEVENT
BEGIN:VEVENT
DTSTART;TZID=America/Halifax:20260526T180000
DTEND;TZID=America/Halifax:20260526T200000
DTSTAMP:20260423T173017
CREATED:20260407T143452Z
LAST-MODIFIED:20260407T194953Z
UID:10008140-1779818400-1779825600@cbrl.ca
SUMMARY:Textile Tuesdays
DESCRIPTION:Join us Tuesdays in May! Bring your current project – knitting\, crochet\, hand weaving\, hand sewing\, cross-stitch\, embroidery or any textile art-and enjoy crafting alongside fellow creators. Coffee\, tea and great company provided! No registration is required.
URL:https://cbrl.ca/event/textile-tuesdays/2026-05-26/
LOCATION:Louisbourg Library\, 10 Upper Warren St\, Louisbourg\, Nova Scotia\, B1C 1M6\, Canada
CATEGORIES:Adults & Seniors
ATTACH;FMTTYPE=image/png:https://cbrl.ca/wp-content/uploads/2026/04/textile.png
ORGANIZER;CN="Louisbourg Library":MAILTO:louisbourg@cbrl.ca
END:VEVENT
BEGIN:VEVENT
DTSTART;TZID=America/Halifax:20260527T103000
DTEND;TZID=America/Halifax:20260527T113000
DTSTAMP:20260423T173017
CREATED:20260102T183923Z
LAST-MODIFIED:20260102T183923Z
UID:10007062-1779877800-1779881400@cbrl.ca
SUMMARY:Tea & Trivia
DESCRIPTION:Tea and Trivia ~ Wednesdays at 10:30am \nOpen to adults. Registration is required. \nPhone 902-862-2892 for more information\, or to register.
URL:https://cbrl.ca/event/tea-trivia/2026-05-27/
LOCATION:New Waterford Library\, 3390 Plummer Ave\, New Waterford\, Nova Scotia\, B1H 4K4\, Canada
CATEGORIES:Adults & Seniors
ATTACH;FMTTYPE=image/png:https://cbrl.ca/wp-content/uploads/2025/04/tea-and-trivia-2.png
ORGANIZER;CN="New Waterford Library":MAILTO:newwaterford@cbrl.ca
END:VEVENT
END:VCALENDAR