BEGIN:VCALENDAR
VERSION:2.0
PRODID:-//Cape Breton Regional Library - ECPv6.15.20//NONSGML v1.0//EN
CALSCALE:GREGORIAN
METHOD:PUBLISH
X-WR-CALNAME:Cape Breton Regional Library
X-ORIGINAL-URL:https://cbrl.ca
X-WR-CALDESC:Events for Cape Breton Regional Library
REFRESH-INTERVAL;VALUE=DURATION:PT1H
X-Robots-Tag:noindex
X-PUBLISHED-TTL:PT1H
BEGIN:VTIMEZONE
TZID:America/Halifax
BEGIN:DAYLIGHT
TZOFFSETFROM:-0400
TZOFFSETTO:-0300
TZNAME:ADT
DTSTART:20250309T060000
END:DAYLIGHT
BEGIN:STANDARD
TZOFFSETFROM:-0300
TZOFFSETTO:-0400
TZNAME:AST
DTSTART:20251102T050000
END:STANDARD
BEGIN:DAYLIGHT
TZOFFSETFROM:-0400
TZOFFSETTO:-0300
TZNAME:ADT
DTSTART:20260308T060000
END:DAYLIGHT
BEGIN:STANDARD
TZOFFSETFROM:-0300
TZOFFSETTO:-0400
TZNAME:AST
DTSTART:20261101T050000
END:STANDARD
BEGIN:DAYLIGHT
TZOFFSETFROM:-0400
TZOFFSETTO:-0300
TZNAME:ADT
DTSTART:20270314T060000
END:DAYLIGHT
BEGIN:STANDARD
TZOFFSETFROM:-0300
TZOFFSETTO:-0400
TZNAME:AST
DTSTART:20271107T050000
END:STANDARD
END:VTIMEZONE
BEGIN:VEVENT
DTSTART;TZID=America/Halifax:20260505T153000
DTEND;TZID=America/Halifax:20260505T170000
DTSTAMP:20260423T201513
CREATED:20260423T183806Z
LAST-MODIFIED:20260423T183806Z
UID:10008188-1777995000-1778000400@cbrl.ca
SUMMARY:Homework Hangout
DESCRIPTION:Are you a Middle School student in the Glace Bay area? Join NSCC Social Service students for some help with your homework\, have a snack and hangout. \n  \n  \n 
URL:https://cbrl.ca/event/homework-hangout/2026-05-05/
LOCATION:Glace Bay Library\, 143 Commercial Street\, Glace Bay\, Nova Scotia\, B1A 3B9\, Canada
CATEGORIES:Teens
ATTACH;FMTTYPE=image/png:https://cbrl.ca/wp-content/uploads/2026/04/Homework.png
ORGANIZER;CN="Glace Bay Library":MAILTO:glacebay@cbrl.ca
END:VEVENT
BEGIN:VEVENT
DTSTART;TZID=America/Halifax:20260520T153000
DTEND;TZID=America/Halifax:20260520T170000
DTSTAMP:20260423T201513
CREATED:20260423T183806Z
LAST-MODIFIED:20260423T183806Z
UID:10008189-1779291000-1779296400@cbrl.ca
SUMMARY:Homework Hangout
DESCRIPTION:Are you a Middle School student in the Glace Bay area? Join NSCC Social Service students for some help with your homework\, have a snack and hangout. \n  \n  \n 
URL:https://cbrl.ca/event/homework-hangout/2026-05-20/
LOCATION:Glace Bay Library\, 143 Commercial Street\, Glace Bay\, Nova Scotia\, B1A 3B9\, Canada
CATEGORIES:Teens
ATTACH;FMTTYPE=image/png:https://cbrl.ca/wp-content/uploads/2026/04/Homework.png
ORGANIZER;CN="Glace Bay Library":MAILTO:glacebay@cbrl.ca
END:VEVENT
END:VCALENDAR