BEGIN:VCALENDAR
VERSION:2.0
PRODID:-//Cape Breton Regional Library - ECPv6.15.20//NONSGML v1.0//EN
CALSCALE:GREGORIAN
METHOD:PUBLISH
X-ORIGINAL-URL:https://cbrl.ca
X-WR-CALDESC:Events for Cape Breton Regional Library
REFRESH-INTERVAL;VALUE=DURATION:PT1H
X-Robots-Tag:noindex
X-PUBLISHED-TTL:PT1H
BEGIN:VTIMEZONE
TZID:America/Halifax
BEGIN:DAYLIGHT
TZOFFSETFROM:-0400
TZOFFSETTO:-0300
TZNAME:ADT
DTSTART:20250309T060000
END:DAYLIGHT
BEGIN:STANDARD
TZOFFSETFROM:-0300
TZOFFSETTO:-0400
TZNAME:AST
DTSTART:20251102T050000
END:STANDARD
BEGIN:DAYLIGHT
TZOFFSETFROM:-0400
TZOFFSETTO:-0300
TZNAME:ADT
DTSTART:20260308T060000
END:DAYLIGHT
BEGIN:STANDARD
TZOFFSETFROM:-0300
TZOFFSETTO:-0400
TZNAME:AST
DTSTART:20261101T050000
END:STANDARD
BEGIN:DAYLIGHT
TZOFFSETFROM:-0400
TZOFFSETTO:-0300
TZNAME:ADT
DTSTART:20270314T060000
END:DAYLIGHT
BEGIN:STANDARD
TZOFFSETFROM:-0300
TZOFFSETTO:-0400
TZNAME:AST
DTSTART:20271107T050000
END:STANDARD
END:VTIMEZONE
BEGIN:VEVENT
DTSTART;TZID=America/Halifax:20260422T103000
DTEND;TZID=America/Halifax:20260422T120000
DTSTAMP:20260423T173114
CREATED:20260330T174830Z
LAST-MODIFIED:20260330T174830Z
UID:10008051-1776853800-1776859200@cbrl.ca
SUMMARY:Coffee & Muffin Social
DESCRIPTION:Come join us for coffee and muffins. Enjoy new friendships. \nEveryone welcome. \n(Wednesday April 15\, 22\, 29 and May 6 from 10:30am-12noon) \n  \n 
URL:https://cbrl.ca/event/coffee-muffin-social/2026-04-22/
LOCATION:Sydney Mines Library\, 1 Fraser Ave\, Sydney Mines\, Nova Scotia\, B1V 0A9\, Canada
CATEGORIES:Adults & Seniors,Babies, Toddler & Preschool (0-5),Children (5-12),Teens
ATTACH;FMTTYPE=image/png:https://cbrl.ca/wp-content/uploads/2026/02/coffee-and-muffins.png
END:VEVENT
BEGIN:VEVENT
DTSTART;TZID=America/Halifax:20260415T103000
DTEND;TZID=America/Halifax:20260415T120000
DTSTAMP:20260423T173114
CREATED:20260330T174830Z
LAST-MODIFIED:20260330T174830Z
UID:10008050-1776249000-1776254400@cbrl.ca
SUMMARY:Coffee & Muffin Social
DESCRIPTION:Come join us for coffee and muffins. Enjoy new friendships. \nEveryone welcome. \n(Wednesday April 15\, 22\, 29 and May 6 from 10:30am-12noon) \n  \n 
URL:https://cbrl.ca/event/coffee-muffin-social/2026-04-15/
LOCATION:Sydney Mines Library\, 1 Fraser Ave\, Sydney Mines\, Nova Scotia\, B1V 0A9\, Canada
CATEGORIES:Adults & Seniors,Babies, Toddler & Preschool (0-5),Children (5-12),Teens
ATTACH;FMTTYPE=image/png:https://cbrl.ca/wp-content/uploads/2026/02/coffee-and-muffins.png
END:VEVENT
BEGIN:VEVENT
DTSTART;TZID=America/Halifax:20260320T140000
DTEND;TZID=America/Halifax:20260320T160000
DTSTAMP:20260423T173114
CREATED:20260212T215407Z
LAST-MODIFIED:20260212T215407Z
UID:10007929-1774015200-1774022400@cbrl.ca
SUMMARY:Make Bracelets and Paper Butterfly Sun-Catchers
DESCRIPTION:Use your imagination and make some lovely bracelets for yourself or for anyone you please.  Make a little sun-catcher for your window. \nRegistration not required. For ages 5+ \n  \n  \n  \n  \n  \n 
URL:https://cbrl.ca/event/make-bracelets-and-paper-butterfly-sun-catchers/
LOCATION:Sydney Mines Library\, 1 Fraser Ave\, Sydney Mines\, Nova Scotia\, B1V 0A9\, Canada
CATEGORIES:Children (5-12)
ATTACH;FMTTYPE=image/png:https://cbrl.ca/wp-content/uploads/2026/02/Sun-catcher-and-bracelet.png
END:VEVENT
BEGIN:VEVENT
DTSTART;TZID=America/Halifax:20260319T140000
DTEND;TZID=America/Halifax:20260319T160000
DTSTAMP:20260423T173114
CREATED:20260212T213958Z
LAST-MODIFIED:20260219T172603Z
UID:10007928-1773928800-1773936000@cbrl.ca
SUMMARY:LEGO Vehicle Build
DESCRIPTION:Build and take home a LEGO vehicle! Build a car\, truck\, RV camper\, boat\, airplane\, spaceship\, time-machine\, or anything that moves you. \nNOTE: Lego flat bases are not included in the give away. \n  \nRegistration is not required. This program is for ages 5+
URL:https://cbrl.ca/event/lego-vehicle-build/
LOCATION:Sydney Mines Library\, 1 Fraser Ave\, Sydney Mines\, Nova Scotia\, B1V 0A9\, Canada
CATEGORIES:Children (5-12)
ATTACH;FMTTYPE=image/png:https://cbrl.ca/wp-content/uploads/2026/02/Lego-vehicle.png
END:VEVENT
BEGIN:VEVENT
DTSTART;TZID=America/Halifax:20260318T140000
DTEND;TZID=America/Halifax:20260318T160000
DTSTAMP:20260423T173114
CREATED:20260212T213047Z
LAST-MODIFIED:20260212T213047Z
UID:10007927-1773842400-1773849600@cbrl.ca
SUMMARY:Sea Glass Creations
DESCRIPTION:Come and make a sea glass picture. \nFor ages 5 and up. Registration is not required. \n  \n  \n 
URL:https://cbrl.ca/event/sea-glass-creations/
LOCATION:Sydney Mines Library\, 1 Fraser Ave\, Sydney Mines\, Nova Scotia\, B1V 0A9\, Canada
CATEGORIES:Children (5-12)
ATTACH;FMTTYPE=image/png:https://cbrl.ca/wp-content/uploads/2026/02/Sea-glass.png
END:VEVENT
BEGIN:VEVENT
DTSTART;TZID=America/Halifax:20260317T140000
DTEND;TZID=America/Halifax:20260317T160000
DTSTAMP:20260423T173114
CREATED:20260219T173104Z
LAST-MODIFIED:20260219T173104Z
UID:10007941-1773756000-1773763200@cbrl.ca
SUMMARY:March Break St. Patrick's Day Party
DESCRIPTION:Join us for crafts\, cake and a treasure hunt! \nRegistration not required – for ages 5+
URL:https://cbrl.ca/event/march-break-st-patricks-day-party/
LOCATION:Sydney Mines Library\, 1 Fraser Ave\, Sydney Mines\, Nova Scotia\, B1V 0A9\, Canada
CATEGORIES:Children (5-12)
ATTACH;FMTTYPE=image/png:https://cbrl.ca/wp-content/uploads/2026/02/Pot-of-Gold.png
END:VEVENT
BEGIN:VEVENT
DTSTART;TZID=America/Halifax:20260316T140000
DTEND;TZID=America/Halifax:20260316T160000
DTSTAMP:20260423T173114
CREATED:20260212T211035Z
LAST-MODIFIED:20260212T211035Z
UID:10007926-1773669600-1773676800@cbrl.ca
SUMMARY:March Break Board Games
DESCRIPTION:Drop by the Sydney Mines Library to play an assortment of board games! \nFor ages 5+ \n  \n  \n 
URL:https://cbrl.ca/event/march-break-board-games/
LOCATION:Sydney Mines Library\, 1 Fraser Ave\, Sydney Mines\, Nova Scotia\, B1V 0A9\, Canada
CATEGORIES:Children (5-12)
ATTACH;FMTTYPE=image/png:https://cbrl.ca/wp-content/uploads/2026/02/Board-Games.png
END:VEVENT
BEGIN:VEVENT
DTSTART;TZID=America/Halifax:20260304T103000
DTEND;TZID=America/Halifax:20260304T120000
DTSTAMP:20260423T173114
CREATED:20260203T185433Z
LAST-MODIFIED:20260203T185433Z
UID:10007905-1772620200-1772625600@cbrl.ca
SUMMARY:Coffee & Muffins
DESCRIPTION:Join us from 10:30am -12 noon Feb. 11\, 18\, 25 and March 4 to meet new friends\, enjoy conversation and have a snack. \nEveryone welcome. \n  \n  \n 
URL:https://cbrl.ca/event/coffee-muffins/2026-03-04/
LOCATION:Sydney Mines Library\, 1 Fraser Ave\, Sydney Mines\, Nova Scotia\, B1V 0A9\, Canada
CATEGORIES:Adults & Seniors,Babies, Toddler & Preschool (0-5),Children (5-12),Teens
ATTACH;FMTTYPE=image/png:https://cbrl.ca/wp-content/uploads/2026/02/coffee-and-muffins.png
END:VEVENT
BEGIN:VEVENT
DTSTART;TZID=America/Halifax:20260227T153000
DTEND;TZID=America/Halifax:20260227T163000
DTSTAMP:20260423T173114
CREATED:20260114T150331Z
LAST-MODIFIED:20260128T234027Z
UID:10007301-1772206200-1772209800@cbrl.ca
SUMMARY:Story Time
DESCRIPTION:Listen to a story\, read\, do a craft (for ages 5 and up). \nThis program is full but call the library if you are interested adding your name to the waitlist 902-736-3219.
URL:https://cbrl.ca/event/rock-painting/2026-02-27/
LOCATION:Sydney Mines Library\, 1 Fraser Ave\, Sydney Mines\, Nova Scotia\, B1V 0A9\, Canada
CATEGORIES:Children (5-12)
ATTACH;FMTTYPE=image/png:https://cbrl.ca/wp-content/uploads/2025/01/Stories-crafts.png
END:VEVENT
BEGIN:VEVENT
DTSTART;TZID=America/Halifax:20260225T103000
DTEND;TZID=America/Halifax:20260225T120000
DTSTAMP:20260423T173114
CREATED:20260203T185433Z
LAST-MODIFIED:20260203T185433Z
UID:10007904-1772015400-1772020800@cbrl.ca
SUMMARY:Coffee & Muffins
DESCRIPTION:Join us from 10:30am -12 noon Feb. 11\, 18\, 25 and March 4 to meet new friends\, enjoy conversation and have a snack. \nEveryone welcome. \n  \n  \n 
URL:https://cbrl.ca/event/coffee-muffins/2026-02-25/
LOCATION:Sydney Mines Library\, 1 Fraser Ave\, Sydney Mines\, Nova Scotia\, B1V 0A9\, Canada
CATEGORIES:Adults & Seniors,Babies, Toddler & Preschool (0-5),Children (5-12),Teens
ATTACH;FMTTYPE=image/png:https://cbrl.ca/wp-content/uploads/2026/02/coffee-and-muffins.png
END:VEVENT
BEGIN:VEVENT
DTSTART;TZID=America/Halifax:20260220T153000
DTEND;TZID=America/Halifax:20260220T163000
DTSTAMP:20260423T173114
CREATED:20260114T150331Z
LAST-MODIFIED:20260128T234027Z
UID:10007300-1771601400-1771605000@cbrl.ca
SUMMARY:Story Time
DESCRIPTION:Listen to a story\, read\, do a craft (for ages 5 and up). \nThis program is full but call the library if you are interested adding your name to the waitlist 902-736-3219.
URL:https://cbrl.ca/event/rock-painting/2026-02-20/
LOCATION:Sydney Mines Library\, 1 Fraser Ave\, Sydney Mines\, Nova Scotia\, B1V 0A9\, Canada
CATEGORIES:Children (5-12)
ATTACH;FMTTYPE=image/png:https://cbrl.ca/wp-content/uploads/2025/01/Stories-crafts.png
END:VEVENT
BEGIN:VEVENT
DTSTART;TZID=America/Halifax:20260218T103000
DTEND;TZID=America/Halifax:20260218T120000
DTSTAMP:20260423T173114
CREATED:20260203T185433Z
LAST-MODIFIED:20260203T185433Z
UID:10007903-1771410600-1771416000@cbrl.ca
SUMMARY:Coffee & Muffins
DESCRIPTION:Join us from 10:30am -12 noon Feb. 11\, 18\, 25 and March 4 to meet new friends\, enjoy conversation and have a snack. \nEveryone welcome. \n  \n  \n 
URL:https://cbrl.ca/event/coffee-muffins/2026-02-18/
LOCATION:Sydney Mines Library\, 1 Fraser Ave\, Sydney Mines\, Nova Scotia\, B1V 0A9\, Canada
CATEGORIES:Adults & Seniors,Babies, Toddler & Preschool (0-5),Children (5-12),Teens
ATTACH;FMTTYPE=image/png:https://cbrl.ca/wp-content/uploads/2026/02/coffee-and-muffins.png
END:VEVENT
BEGIN:VEVENT
DTSTART;TZID=America/Halifax:20260214T130000
DTEND;TZID=America/Halifax:20260214T140000
DTSTAMP:20260423T173114
CREATED:20260119T172635Z
LAST-MODIFIED:20260210T185727Z
UID:10007319-1771074000-1771077600@cbrl.ca
SUMMARY:Valentine's Cookie Decorating
DESCRIPTION:Love is sweet\, but cookies are sweeter. Join us for a Valentine’s Cookie Decorating kids program filled with frosting\, sprinkles\, story time\, and lots of love at the Sydney Mines Library! \nFor children ages 5-12 years old. \nRegistration required. Call 902-736-3219 or email sydneymines@cbrl.ca \nPlease let us know about any food allergies or dietary restrictions when you register so we can do our best to accommodate. \n  \nThis program is made possible thanks to the generous support of the Province of Nova Scotia. \n  \n 
URL:https://cbrl.ca/event/valentines-cookie-decorating/
LOCATION:Sydney Mines Library\, 1 Fraser Ave\, Sydney Mines\, Nova Scotia\, B1V 0A9\, Canada
CATEGORIES:Children (5-12)
ATTACH;FMTTYPE=image/png:https://cbrl.ca/wp-content/uploads/2026/01/Valentine-cookie-decortaing.png
END:VEVENT
BEGIN:VEVENT
DTSTART;TZID=America/Halifax:20260213T153000
DTEND;TZID=America/Halifax:20260213T163000
DTSTAMP:20260423T173114
CREATED:20260114T150331Z
LAST-MODIFIED:20260128T234027Z
UID:10007299-1770996600-1771000200@cbrl.ca
SUMMARY:Story Time
DESCRIPTION:Listen to a story\, read\, do a craft (for ages 5 and up). \nThis program is full but call the library if you are interested adding your name to the waitlist 902-736-3219.
URL:https://cbrl.ca/event/rock-painting/2026-02-13/
LOCATION:Sydney Mines Library\, 1 Fraser Ave\, Sydney Mines\, Nova Scotia\, B1V 0A9\, Canada
CATEGORIES:Children (5-12)
ATTACH;FMTTYPE=image/png:https://cbrl.ca/wp-content/uploads/2025/01/Stories-crafts.png
END:VEVENT
BEGIN:VEVENT
DTSTART;TZID=America/Halifax:20260211T103000
DTEND;TZID=America/Halifax:20260211T120000
DTSTAMP:20260423T173114
CREATED:20260203T185433Z
LAST-MODIFIED:20260203T185433Z
UID:10007902-1770805800-1770811200@cbrl.ca
SUMMARY:Coffee & Muffins
DESCRIPTION:Join us from 10:30am -12 noon Feb. 11\, 18\, 25 and March 4 to meet new friends\, enjoy conversation and have a snack. \nEveryone welcome. \n  \n  \n 
URL:https://cbrl.ca/event/coffee-muffins/2026-02-11/
LOCATION:Sydney Mines Library\, 1 Fraser Ave\, Sydney Mines\, Nova Scotia\, B1V 0A9\, Canada
CATEGORIES:Adults & Seniors,Babies, Toddler & Preschool (0-5),Children (5-12),Teens
ATTACH;FMTTYPE=image/png:https://cbrl.ca/wp-content/uploads/2026/02/coffee-and-muffins.png
END:VEVENT
BEGIN:VEVENT
DTSTART;TZID=America/Halifax:20260206T153000
DTEND;TZID=America/Halifax:20260206T163000
DTSTAMP:20260423T173114
CREATED:20260114T150331Z
LAST-MODIFIED:20260128T234027Z
UID:10007298-1770391800-1770395400@cbrl.ca
SUMMARY:Story Time
DESCRIPTION:Listen to a story\, read\, do a craft (for ages 5 and up). \nThis program is full but call the library if you are interested adding your name to the waitlist 902-736-3219.
URL:https://cbrl.ca/event/rock-painting/2026-02-06/
LOCATION:Sydney Mines Library\, 1 Fraser Ave\, Sydney Mines\, Nova Scotia\, B1V 0A9\, Canada
CATEGORIES:Children (5-12)
ATTACH;FMTTYPE=image/png:https://cbrl.ca/wp-content/uploads/2025/01/Stories-crafts.png
END:VEVENT
BEGIN:VEVENT
DTSTART;TZID=America/Halifax:20260130T153000
DTEND;TZID=America/Halifax:20260130T163000
DTSTAMP:20260423T173114
CREATED:20260114T150331Z
LAST-MODIFIED:20260128T234027Z
UID:10007297-1769787000-1769790600@cbrl.ca
SUMMARY:Story Time
DESCRIPTION:Listen to a story\, read\, do a craft (for ages 5 and up). \nThis program is full but call the library if you are interested adding your name to the waitlist 902-736-3219.
URL:https://cbrl.ca/event/rock-painting/2026-01-30/
LOCATION:Sydney Mines Library\, 1 Fraser Ave\, Sydney Mines\, Nova Scotia\, B1V 0A9\, Canada
CATEGORIES:Children (5-12)
ATTACH;FMTTYPE=image/png:https://cbrl.ca/wp-content/uploads/2025/01/Stories-crafts.png
END:VEVENT
BEGIN:VEVENT
DTSTART;TZID=America/Halifax:20260123T153000
DTEND;TZID=America/Halifax:20260123T163000
DTSTAMP:20260423T173114
CREATED:20260114T150331Z
LAST-MODIFIED:20260128T234027Z
UID:10007296-1769182200-1769185800@cbrl.ca
SUMMARY:Story Time
DESCRIPTION:Listen to a story\, read\, do a craft (for ages 5 and up). \nThis program is full but call the library if you are interested adding your name to the waitlist 902-736-3219.
URL:https://cbrl.ca/event/rock-painting/2026-01-23/
LOCATION:Sydney Mines Library\, 1 Fraser Ave\, Sydney Mines\, Nova Scotia\, B1V 0A9\, Canada
CATEGORIES:Children (5-12)
ATTACH;FMTTYPE=image/png:https://cbrl.ca/wp-content/uploads/2025/01/Stories-crafts.png
END:VEVENT
END:VCALENDAR